BEGIN:VCALENDAR
VERSION:2.0
PRODID:-//Sport&amp;Entspannung Susman - ECPv6.3.4//NONSGML v1.0//EN
CALSCALE:GREGORIAN
METHOD:PUBLISH
X-WR-CALNAME:Sport&amp;Entspannung Susman
X-ORIGINAL-URL:https://www.sportsusman.de
X-WR-CALDESC:Veranstaltungen für Sport&amp;Entspannung Susman
REFRESH-INTERVAL;VALUE=DURATION:PT1H
X-Robots-Tag:noindex
X-PUBLISHED-TTL:PT1H
BEGIN:VTIMEZONE
TZID:Europe/Paris
BEGIN:DAYLIGHT
TZOFFSETFROM:+0100
TZOFFSETTO:+0200
TZNAME:CEST
DTSTART:20250330T010000
END:DAYLIGHT
BEGIN:STANDARD
TZOFFSETFROM:+0200
TZOFFSETTO:+0100
TZNAME:CET
DTSTART:20251026T010000
END:STANDARD
END:VTIMEZONE
BEGIN:VEVENT
DTSTART;TZID=Europe/Paris:20251009T100000
DTEND;TZID=Europe/Paris:20251009T104500
DTSTAMP:20260424T052101
CREATED:20240318T184809Z
LAST-MODIFIED:20240506T061225Z
UID:12394-1760004000-1760006700@www.sportsusman.de
SUMMARY:REHASPORT ORTHOPÄDIE  Röhrnbach
DESCRIPTION:
URL:https://www.sportsusman.de/kursekalender/rehasport-orthopaedie/2025-10-09/10/
LOCATION:Sport & Entspannung Susman\, Goldener Steig 26\, Röhrnbach\, 94133\, Deutschland
ORGANIZER;CN="Sport & Entspannung Susman":MAILTO:susman@sportsusman.de
END:VEVENT
BEGIN:VEVENT
DTSTART;TZID=Europe/Paris:20251009T090000
DTEND;TZID=Europe/Paris:20251009T094500
DTSTAMP:20260424T052101
CREATED:20240318T184809Z
LAST-MODIFIED:20240506T061224Z
UID:12393-1760000400-1760003100@www.sportsusman.de
SUMMARY:REHASPORT ORTHOPÄDIE  Röhrnbach
DESCRIPTION:
URL:https://www.sportsusman.de/kursekalender/rehasport-orthopaedie/2025-10-09/10/
LOCATION:Sport & Entspannung Susman\, Goldener Steig 26\, Röhrnbach\, 94133\, Deutschland
ORGANIZER;CN="Sport & Entspannung Susman":MAILTO:susman@sportsusman.de
END:VEVENT
BEGIN:VEVENT
DTSTART;TZID=Europe/Paris:20251009T080000
DTEND;TZID=Europe/Paris:20251009T084500
DTSTAMP:20260424T052101
CREATED:20240318T184809Z
LAST-MODIFIED:20240506T061224Z
UID:12392-1759996800-1759999500@www.sportsusman.de
SUMMARY:REHASPORT ORTHOPÄDIE  Röhrnbach
DESCRIPTION:
URL:https://www.sportsusman.de/kursekalender/rehasport-orthopaedie/2025-10-09/
LOCATION:Sport & Entspannung Susman\, Goldener Steig 26\, Röhrnbach\, 94133\, Deutschland
ORGANIZER;CN="Sport & Entspannung Susman":MAILTO:susman@sportsusman.de
END:VEVENT
BEGIN:VEVENT
DTSTART;TZID=Europe/Paris:20251008T180000
DTEND;TZID=Europe/Paris:20251008T184500
DTSTAMP:20260424T052101
CREATED:20240318T184809Z
LAST-MODIFIED:20240506T061224Z
UID:12391-1759946400-1759949100@www.sportsusman.de
SUMMARY:REHASPORT ORTHOPÄDIE  Röhrnbach
DESCRIPTION:
URL:https://www.sportsusman.de/kursekalender/rehasport-orthopaedie/2025-10-08/10/
LOCATION:Sport & Entspannung Susman\, Goldener Steig 26\, Röhrnbach\, 94133\, Deutschland
ORGANIZER;CN="Sport & Entspannung Susman":MAILTO:susman@sportsusman.de
END:VEVENT
BEGIN:VEVENT
DTSTART;TZID=Europe/Paris:20251008T173000
DTEND;TZID=Europe/Paris:20251008T181500
DTSTAMP:20260424T052101
CREATED:20240709T065117Z
LAST-MODIFIED:20240709T065117Z
UID:15516-1759944600-1759947300@www.sportsusman.de
SUMMARY:Rehasport HERZ
DESCRIPTION:
URL:https://www.sportsusman.de/kursekalender/rehasport-herz/2025-10-08/
LOCATION:Josef Eder Halle Roehrnbach\, Rathausstraße 1\, Roehrnbach\, Bayern\, 94133\, Deutschland
ATTACH;FMTTYPE=application/pdf:https://www.sportsusman.de/wp-content/uploads/2024/07/Kopie-von-Rehasport-Herz-verschoben.pdf
ORGANIZER;CN="Sport & Entspannung Susman":MAILTO:susman@sportsusman.de
END:VEVENT
BEGIN:VEVENT
DTSTART;TZID=Europe/Paris:20251008T170000
DTEND;TZID=Europe/Paris:20251008T174500
DTSTAMP:20260424T052101
CREATED:20240318T184809Z
LAST-MODIFIED:20240506T061224Z
UID:12390-1759942800-1759945500@www.sportsusman.de
SUMMARY:REHASPORT ORTHOPÄDIE  Röhrnbach
DESCRIPTION:
URL:https://www.sportsusman.de/kursekalender/rehasport-orthopaedie/2025-10-08/
LOCATION:Sport & Entspannung Susman\, Goldener Steig 26\, Röhrnbach\, 94133\, Deutschland
ORGANIZER;CN="Sport & Entspannung Susman":MAILTO:susman@sportsusman.de
END:VEVENT
BEGIN:VEVENT
DTSTART;TZID=Europe/Paris:20251006T180000
DTEND;TZID=Europe/Paris:20251006T184500
DTSTAMP:20260424T052101
CREATED:20240318T184809Z
LAST-MODIFIED:20240506T061224Z
UID:12389-1759773600-1759776300@www.sportsusman.de
SUMMARY:REHASPORT ORTHOPÄDIE  Röhrnbach
DESCRIPTION:
URL:https://www.sportsusman.de/kursekalender/rehasport-orthopaedie/2025-10-06/10/
LOCATION:Sport & Entspannung Susman\, Goldener Steig 26\, Röhrnbach\, 94133\, Deutschland
ORGANIZER;CN="Sport & Entspannung Susman":MAILTO:susman@sportsusman.de
END:VEVENT
BEGIN:VEVENT
DTSTART;TZID=Europe/Paris:20251006T170000
DTEND;TZID=Europe/Paris:20251006T174500
DTSTAMP:20260424T052101
CREATED:20240318T184809Z
LAST-MODIFIED:20240506T061224Z
UID:12388-1759770000-1759772700@www.sportsusman.de
SUMMARY:REHASPORT ORTHOPÄDIE  Röhrnbach
DESCRIPTION:
URL:https://www.sportsusman.de/kursekalender/rehasport-orthopaedie/2025-10-06/10/
LOCATION:Sport & Entspannung Susman\, Goldener Steig 26\, Röhrnbach\, 94133\, Deutschland
ORGANIZER;CN="Sport & Entspannung Susman":MAILTO:susman@sportsusman.de
END:VEVENT
BEGIN:VEVENT
DTSTART;TZID=Europe/Paris:20251006T160000
DTEND;TZID=Europe/Paris:20251006T164500
DTSTAMP:20260424T052101
CREATED:20240318T220814Z
LAST-MODIFIED:20240318T220814Z
UID:13592-1759766400-1759769100@www.sportsusman.de
SUMMARY:REHASPORT Orthopädie HAUZENBERG
DESCRIPTION:
URL:https://www.sportsusman.de/kursekalender/rehasport-orthopaedie-hauzenberg/2025-10-06/
LOCATION:Dreifachturnhalle Hauzenberg\, Eckmühlstraße 30\, Hauzenberg\, Bayern\, 94051\, Deutschland
ORGANIZER;CN="Sport & Entspannung Susman":MAILTO:susman@sportsusman.de
END:VEVENT
BEGIN:VEVENT
DTSTART;TZID=Europe/Paris:20251006T100000
DTEND;TZID=Europe/Paris:20251006T104500
DTSTAMP:20260424T052101
CREATED:20240318T234657Z
LAST-MODIFIED:20240318T234657Z
UID:14215-1759744800-1759747500@www.sportsusman.de
SUMMARY:REHASPORT WASSER  Röhrnbach
DESCRIPTION:
URL:https://www.sportsusman.de/kursekalender/rehasport-wasser-roehrnbach/2025-10-06/
LOCATION:Hallenbad Grund- und Mittelschule Röhrnbach\, Froschau 10\, Röhrnbach\, 94133\, Deutschland
ATTACH;FMTTYPE=image/jpeg:https://www.sportsusman.de/wp-content/uploads/2022/01/rehasport_wasser.jpg
ORGANIZER;CN="Sport & Entspannung Susman":MAILTO:susman@sportsusman.de
END:VEVENT
BEGIN:VEVENT
DTSTART;TZID=Europe/Paris:20251006T100000
DTEND;TZID=Europe/Paris:20251006T104500
DTSTAMP:20260424T052101
CREATED:20240318T184809Z
LAST-MODIFIED:20240506T061223Z
UID:12387-1759744800-1759747500@www.sportsusman.de
SUMMARY:REHASPORT ORTHOPÄDIE  Röhrnbach
DESCRIPTION:
URL:https://www.sportsusman.de/kursekalender/rehasport-orthopaedie/2025-10-06/10/
LOCATION:Sport & Entspannung Susman\, Goldener Steig 26\, Röhrnbach\, 94133\, Deutschland
ORGANIZER;CN="Sport & Entspannung Susman":MAILTO:susman@sportsusman.de
END:VEVENT
BEGIN:VEVENT
DTSTART;TZID=Europe/Paris:20251003T173000
DTEND;TZID=Europe/Paris:20251003T181500
DTSTAMP:20260424T052101
CREATED:20240318T220814Z
LAST-MODIFIED:20240318T220814Z
UID:13591-1759512600-1759515300@www.sportsusman.de
SUMMARY:REHASPORT Orthopädie HAUZENBERG
DESCRIPTION:
URL:https://www.sportsusman.de/kursekalender/rehasport-orthopaedie-hauzenberg/2025-10-03/10/
LOCATION:Dreifachturnhalle Hauzenberg\, Eckmühlstraße 30\, Hauzenberg\, Bayern\, 94051\, Deutschland
ORGANIZER;CN="Sport & Entspannung Susman":MAILTO:susman@sportsusman.de
END:VEVENT
BEGIN:VEVENT
DTSTART;TZID=Europe/Paris:20251003T163000
DTEND;TZID=Europe/Paris:20251003T171500
DTSTAMP:20260424T052101
CREATED:20240318T220814Z
LAST-MODIFIED:20240318T220814Z
UID:13590-1759509000-1759511700@www.sportsusman.de
SUMMARY:REHASPORT Orthopädie HAUZENBERG
DESCRIPTION:
URL:https://www.sportsusman.de/kursekalender/rehasport-orthopaedie-hauzenberg/2025-10-03/
LOCATION:Dreifachturnhalle Hauzenberg\, Eckmühlstraße 30\, Hauzenberg\, Bayern\, 94051\, Deutschland
ORGANIZER;CN="Sport & Entspannung Susman":MAILTO:susman@sportsusman.de
END:VEVENT
BEGIN:VEVENT
DTSTART;TZID=Europe/Paris:20251002T173000
DTEND;TZID=Europe/Paris:20251002T181500
DTSTAMP:20260424T052101
CREATED:20240318T182329Z
LAST-MODIFIED:20240318T230922Z
UID:11194-1759426200-1759428900@www.sportsusman.de
SUMMARY:REHASPORT Wasser   RÖHRNBACH
DESCRIPTION:
URL:https://www.sportsusman.de/kursekalender/rehasport-wasser-2/2025-10-02/
LOCATION:Hallenbad Grund- und Mittelschule Röhrnbach\, Froschau 10\, Röhrnbach\, 94133\, Deutschland
ATTACH;FMTTYPE=image/jpeg:https://www.sportsusman.de/wp-content/uploads/2022/01/rehasport_wasser.jpg
END:VEVENT
BEGIN:VEVENT
DTSTART;TZID=Europe/Paris:20251002T110000
DTEND;TZID=Europe/Paris:20251002T114500
DTSTAMP:20260424T052101
CREATED:20240318T191903Z
LAST-MODIFIED:20240318T193943Z
UID:12679-1759402800-1759405500@www.sportsusman.de
SUMMARY:REHASPORT Innere Medizin
DESCRIPTION:
URL:https://www.sportsusman.de/kursekalender/rehasport-innere-medizin/2025-10-02/
LOCATION:Sport & Entspannung Susman\, Goldener Steig 26\, Röhrnbach\, Bayern\, 94133\, Deutschland
ORGANIZER;CN="Sport & Entspannung Susman":MAILTO:susman@sportsusman.de
END:VEVENT
BEGIN:VEVENT
DTSTART;TZID=Europe/Paris:20251002T100000
DTEND;TZID=Europe/Paris:20251002T104500
DTSTAMP:20260424T052101
CREATED:20240318T184809Z
LAST-MODIFIED:20240506T061223Z
UID:12384-1759399200-1759401900@www.sportsusman.de
SUMMARY:REHASPORT ORTHOPÄDIE  Röhrnbach
DESCRIPTION:
URL:https://www.sportsusman.de/kursekalender/rehasport-orthopaedie/2025-10-02/10/
LOCATION:Sport & Entspannung Susman\, Goldener Steig 26\, Röhrnbach\, 94133\, Deutschland
ORGANIZER;CN="Sport & Entspannung Susman":MAILTO:susman@sportsusman.de
END:VEVENT
BEGIN:VEVENT
DTSTART;TZID=Europe/Paris:20251002T090000
DTEND;TZID=Europe/Paris:20251002T094500
DTSTAMP:20260424T052101
CREATED:20240318T184809Z
LAST-MODIFIED:20240506T061223Z
UID:12383-1759395600-1759398300@www.sportsusman.de
SUMMARY:REHASPORT ORTHOPÄDIE  Röhrnbach
DESCRIPTION:
URL:https://www.sportsusman.de/kursekalender/rehasport-orthopaedie/2025-10-02/10/
LOCATION:Sport & Entspannung Susman\, Goldener Steig 26\, Röhrnbach\, 94133\, Deutschland
ORGANIZER;CN="Sport & Entspannung Susman":MAILTO:susman@sportsusman.de
END:VEVENT
BEGIN:VEVENT
DTSTART;TZID=Europe/Paris:20251002T080000
DTEND;TZID=Europe/Paris:20251002T084500
DTSTAMP:20260424T052101
CREATED:20240318T184809Z
LAST-MODIFIED:20240506T061223Z
UID:12382-1759392000-1759394700@www.sportsusman.de
SUMMARY:REHASPORT ORTHOPÄDIE  Röhrnbach
DESCRIPTION:
URL:https://www.sportsusman.de/kursekalender/rehasport-orthopaedie/2025-10-02/
LOCATION:Sport & Entspannung Susman\, Goldener Steig 26\, Röhrnbach\, 94133\, Deutschland
ORGANIZER;CN="Sport & Entspannung Susman":MAILTO:susman@sportsusman.de
END:VEVENT
BEGIN:VEVENT
DTSTART;TZID=Europe/Paris:20251001T180000
DTEND;TZID=Europe/Paris:20251001T184500
DTSTAMP:20260424T052101
CREATED:20240318T184809Z
LAST-MODIFIED:20240506T061223Z
UID:12381-1759341600-1759344300@www.sportsusman.de
SUMMARY:REHASPORT ORTHOPÄDIE  Röhrnbach
DESCRIPTION:
URL:https://www.sportsusman.de/kursekalender/rehasport-orthopaedie/2025-10-01/10/
LOCATION:Sport & Entspannung Susman\, Goldener Steig 26\, Röhrnbach\, 94133\, Deutschland
ORGANIZER;CN="Sport & Entspannung Susman":MAILTO:susman@sportsusman.de
END:VEVENT
BEGIN:VEVENT
DTSTART;TZID=Europe/Paris:20251001T173000
DTEND;TZID=Europe/Paris:20251001T181500
DTSTAMP:20260424T052101
CREATED:20240709T065117Z
LAST-MODIFIED:20240709T065117Z
UID:15515-1759339800-1759342500@www.sportsusman.de
SUMMARY:Rehasport HERZ
DESCRIPTION:
URL:https://www.sportsusman.de/kursekalender/rehasport-herz/2025-10-01/
LOCATION:Josef Eder Halle Roehrnbach\, Rathausstraße 1\, Roehrnbach\, Bayern\, 94133\, Deutschland
ATTACH;FMTTYPE=application/pdf:https://www.sportsusman.de/wp-content/uploads/2024/07/Kopie-von-Rehasport-Herz-verschoben.pdf
ORGANIZER;CN="Sport & Entspannung Susman":MAILTO:susman@sportsusman.de
END:VEVENT
BEGIN:VEVENT
DTSTART;TZID=Europe/Paris:20251001T170000
DTEND;TZID=Europe/Paris:20251001T174500
DTSTAMP:20260424T052101
CREATED:20240318T184809Z
LAST-MODIFIED:20240506T061222Z
UID:12380-1759338000-1759340700@www.sportsusman.de
SUMMARY:REHASPORT ORTHOPÄDIE  Röhrnbach
DESCRIPTION:
URL:https://www.sportsusman.de/kursekalender/rehasport-orthopaedie/2025-10-01/
LOCATION:Sport & Entspannung Susman\, Goldener Steig 26\, Röhrnbach\, 94133\, Deutschland
ORGANIZER;CN="Sport & Entspannung Susman":MAILTO:susman@sportsusman.de
END:VEVENT
BEGIN:VEVENT
DTSTART;TZID=Europe/Paris:20250929T180000
DTEND;TZID=Europe/Paris:20250929T184500
DTSTAMP:20260424T052101
CREATED:20240318T184809Z
LAST-MODIFIED:20240506T061222Z
UID:12379-1759168800-1759171500@www.sportsusman.de
SUMMARY:REHASPORT ORTHOPÄDIE  Röhrnbach
DESCRIPTION:
URL:https://www.sportsusman.de/kursekalender/rehasport-orthopaedie/2025-09-29/10/
LOCATION:Sport & Entspannung Susman\, Goldener Steig 26\, Röhrnbach\, 94133\, Deutschland
ORGANIZER;CN="Sport & Entspannung Susman":MAILTO:susman@sportsusman.de
END:VEVENT
BEGIN:VEVENT
DTSTART;TZID=Europe/Paris:20250929T170000
DTEND;TZID=Europe/Paris:20250929T174500
DTSTAMP:20260424T052101
CREATED:20240318T184809Z
LAST-MODIFIED:20240506T061222Z
UID:12378-1759165200-1759167900@www.sportsusman.de
SUMMARY:REHASPORT ORTHOPÄDIE  Röhrnbach
DESCRIPTION:
URL:https://www.sportsusman.de/kursekalender/rehasport-orthopaedie/2025-09-29/10/
LOCATION:Sport & Entspannung Susman\, Goldener Steig 26\, Röhrnbach\, 94133\, Deutschland
ORGANIZER;CN="Sport & Entspannung Susman":MAILTO:susman@sportsusman.de
END:VEVENT
BEGIN:VEVENT
DTSTART;TZID=Europe/Paris:20250929T160000
DTEND;TZID=Europe/Paris:20250929T164500
DTSTAMP:20260424T052101
CREATED:20240318T220814Z
LAST-MODIFIED:20240318T220814Z
UID:13589-1759161600-1759164300@www.sportsusman.de
SUMMARY:REHASPORT Orthopädie HAUZENBERG
DESCRIPTION:
URL:https://www.sportsusman.de/kursekalender/rehasport-orthopaedie-hauzenberg/2025-09-29/
LOCATION:Dreifachturnhalle Hauzenberg\, Eckmühlstraße 30\, Hauzenberg\, Bayern\, 94051\, Deutschland
ORGANIZER;CN="Sport & Entspannung Susman":MAILTO:susman@sportsusman.de
END:VEVENT
BEGIN:VEVENT
DTSTART;TZID=Europe/Paris:20250929T100000
DTEND;TZID=Europe/Paris:20250929T104500
DTSTAMP:20260424T052101
CREATED:20240318T234657Z
LAST-MODIFIED:20240318T234657Z
UID:14214-1759140000-1759142700@www.sportsusman.de
SUMMARY:REHASPORT WASSER  Röhrnbach
DESCRIPTION:
URL:https://www.sportsusman.de/kursekalender/rehasport-wasser-roehrnbach/2025-09-29/
LOCATION:Hallenbad Grund- und Mittelschule Röhrnbach\, Froschau 10\, Röhrnbach\, 94133\, Deutschland
ATTACH;FMTTYPE=image/jpeg:https://www.sportsusman.de/wp-content/uploads/2022/01/rehasport_wasser.jpg
ORGANIZER;CN="Sport & Entspannung Susman":MAILTO:susman@sportsusman.de
END:VEVENT
BEGIN:VEVENT
DTSTART;TZID=Europe/Paris:20250929T100000
DTEND;TZID=Europe/Paris:20250929T104500
DTSTAMP:20260424T052101
CREATED:20240318T184809Z
LAST-MODIFIED:20240506T061222Z
UID:12377-1759140000-1759142700@www.sportsusman.de
SUMMARY:REHASPORT ORTHOPÄDIE  Röhrnbach
DESCRIPTION:
URL:https://www.sportsusman.de/kursekalender/rehasport-orthopaedie/2025-09-29/10/
LOCATION:Sport & Entspannung Susman\, Goldener Steig 26\, Röhrnbach\, 94133\, Deutschland
ORGANIZER;CN="Sport & Entspannung Susman":MAILTO:susman@sportsusman.de
END:VEVENT
BEGIN:VEVENT
DTSTART;TZID=Europe/Paris:20250926T173000
DTEND;TZID=Europe/Paris:20250926T181500
DTSTAMP:20260424T052101
CREATED:20240318T220814Z
LAST-MODIFIED:20240318T220814Z
UID:13588-1758907800-1758910500@www.sportsusman.de
SUMMARY:REHASPORT Orthopädie HAUZENBERG
DESCRIPTION:
URL:https://www.sportsusman.de/kursekalender/rehasport-orthopaedie-hauzenberg/2025-09-26/10/
LOCATION:Dreifachturnhalle Hauzenberg\, Eckmühlstraße 30\, Hauzenberg\, Bayern\, 94051\, Deutschland
ORGANIZER;CN="Sport & Entspannung Susman":MAILTO:susman@sportsusman.de
END:VEVENT
BEGIN:VEVENT
DTSTART;TZID=Europe/Paris:20250926T163000
DTEND;TZID=Europe/Paris:20250926T171500
DTSTAMP:20260424T052101
CREATED:20240318T220814Z
LAST-MODIFIED:20240318T220814Z
UID:13587-1758904200-1758906900@www.sportsusman.de
SUMMARY:REHASPORT Orthopädie HAUZENBERG
DESCRIPTION:
URL:https://www.sportsusman.de/kursekalender/rehasport-orthopaedie-hauzenberg/2025-09-26/
LOCATION:Dreifachturnhalle Hauzenberg\, Eckmühlstraße 30\, Hauzenberg\, Bayern\, 94051\, Deutschland
ORGANIZER;CN="Sport & Entspannung Susman":MAILTO:susman@sportsusman.de
END:VEVENT
BEGIN:VEVENT
DTSTART;TZID=Europe/Paris:20250925T173000
DTEND;TZID=Europe/Paris:20250925T181500
DTSTAMP:20260424T052101
CREATED:20240318T182329Z
LAST-MODIFIED:20240318T230922Z
UID:11193-1758821400-1758824100@www.sportsusman.de
SUMMARY:REHASPORT Wasser   RÖHRNBACH
DESCRIPTION:
URL:https://www.sportsusman.de/kursekalender/rehasport-wasser-2/2025-09-25/
LOCATION:Hallenbad Grund- und Mittelschule Röhrnbach\, Froschau 10\, Röhrnbach\, 94133\, Deutschland
ATTACH;FMTTYPE=image/jpeg:https://www.sportsusman.de/wp-content/uploads/2022/01/rehasport_wasser.jpg
END:VEVENT
BEGIN:VEVENT
DTSTART;TZID=Europe/Paris:20250925T110000
DTEND;TZID=Europe/Paris:20250925T114500
DTSTAMP:20260424T052101
CREATED:20240318T191903Z
LAST-MODIFIED:20240318T193942Z
UID:12678-1758798000-1758800700@www.sportsusman.de
SUMMARY:REHASPORT Innere Medizin
DESCRIPTION:
URL:https://www.sportsusman.de/kursekalender/rehasport-innere-medizin/2025-09-25/
LOCATION:Sport & Entspannung Susman\, Goldener Steig 26\, Röhrnbach\, Bayern\, 94133\, Deutschland
ORGANIZER;CN="Sport & Entspannung Susman":MAILTO:susman@sportsusman.de
END:VEVENT
END:VCALENDAR