BEGIN:VCALENDAR
VERSION:2.0
PRODID:-//Sport&amp;Entspannung Susman - ECPv6.3.4//NONSGML v1.0//EN
CALSCALE:GREGORIAN
METHOD:PUBLISH
X-ORIGINAL-URL:https://www.sportsusman.de
X-WR-CALDESC:Veranstaltungen für Sport&amp;Entspannung Susman
REFRESH-INTERVAL;VALUE=DURATION:PT1H
X-Robots-Tag:noindex
X-PUBLISHED-TTL:PT1H
BEGIN:VTIMEZONE
TZID:Europe/Paris
BEGIN:DAYLIGHT
TZOFFSETFROM:+0100
TZOFFSETTO:+0200
TZNAME:CEST
DTSTART:20270328T010000
END:DAYLIGHT
BEGIN:STANDARD
TZOFFSETFROM:+0200
TZOFFSETTO:+0100
TZNAME:CET
DTSTART:20271031T010000
END:STANDARD
END:VTIMEZONE
BEGIN:VEVENT
DTSTART;TZID=Europe/Paris:20270510T160000
DTEND;TZID=Europe/Paris:20270510T164500
DTSTAMP:20260424T155950
CREATED:20240318T220814Z
LAST-MODIFIED:20240318T220814Z
UID:16004-1809964800-1809967500@www.sportsusman.de
SUMMARY:REHASPORT Orthopädie HAUZENBERG
DESCRIPTION:
URL:https://www.sportsusman.de/kursekalender/rehasport-orthopaedie-hauzenberg/2027-05-10/
LOCATION:Dreifachturnhalle Hauzenberg\, Eckmühlstraße 30\, Hauzenberg\, Bayern\, 94051\, Deutschland
ORGANIZER;CN="Sport & Entspannung Susman":MAILTO:susman@sportsusman.de
END:VEVENT
BEGIN:VEVENT
DTSTART;TZID=Europe/Paris:20270510T170000
DTEND;TZID=Europe/Paris:20270510T174500
DTSTAMP:20260424T155950
CREATED:20240318T184809Z
LAST-MODIFIED:20240318T184809Z
UID:16008-1809968400-1809971100@www.sportsusman.de
SUMMARY:REHASPORT ORTHOPÄDIE  Röhrnbach
DESCRIPTION:
URL:https://www.sportsusman.de/kursekalender/rehasport-orthopaedie/2027-05-10/
LOCATION:Sport & Entspannung Susman\, Goldener Steig 26\, Röhrnbach\, 94133\, Deutschland
ORGANIZER;CN="Sport & Entspannung Susman":MAILTO:susman@sportsusman.de
END:VEVENT
BEGIN:VEVENT
DTSTART;TZID=Europe/Paris:20270510T180000
DTEND;TZID=Europe/Paris:20270510T184500
DTSTAMP:20260424T155950
CREATED:20240318T184809Z
LAST-MODIFIED:20240318T184809Z
UID:16009-1809972000-1809974700@www.sportsusman.de
SUMMARY:REHASPORT ORTHOPÄDIE  Röhrnbach
DESCRIPTION:
URL:https://www.sportsusman.de/kursekalender/rehasport-orthopaedie/2027-05-10/
LOCATION:Sport & Entspannung Susman\, Goldener Steig 26\, Röhrnbach\, 94133\, Deutschland
ORGANIZER;CN="Sport & Entspannung Susman":MAILTO:susman@sportsusman.de
END:VEVENT
BEGIN:VEVENT
DTSTART;TZID=Europe/Paris:20270512T173000
DTEND;TZID=Europe/Paris:20270512T181500
DTSTAMP:20260424T155950
CREATED:20240709T065117Z
LAST-MODIFIED:20240709T065117Z
UID:16010-1810143000-1810145700@www.sportsusman.de
SUMMARY:Rehasport HERZ
DESCRIPTION:
URL:https://www.sportsusman.de/kursekalender/rehasport-herz/2027-05-12/
LOCATION:Josef Eder Halle Roehrnbach\, Rathausstraße 1\, Roehrnbach\, Bayern\, 94133\, Deutschland
ATTACH;FMTTYPE=application/pdf:https://www.sportsusman.de/wp-content/uploads/2024/07/Kopie-von-Rehasport-Herz-verschoben.pdf
ORGANIZER;CN="Sport & Entspannung Susman":MAILTO:susman@sportsusman.de
END:VEVENT
BEGIN:VEVENT
DTSTART;TZID=Europe/Paris:20270513T110000
DTEND;TZID=Europe/Paris:20270513T114500
DTSTAMP:20260424T155950
CREATED:20240318T191903Z
LAST-MODIFIED:20240318T191903Z
UID:16011-1810206000-1810208700@www.sportsusman.de
SUMMARY:REHASPORT Innere Medizin
DESCRIPTION:
URL:https://www.sportsusman.de/kursekalender/rehasport-innere-medizin/2027-05-13/
LOCATION:Sport & Entspannung Susman\, Goldener Steig 26\, Röhrnbach\, Bayern\, 94133\, Deutschland
ORGANIZER;CN="Sport & Entspannung Susman":MAILTO:susman@sportsusman.de
END:VEVENT
BEGIN:VEVENT
DTSTART;TZID=Europe/Paris:20270513T173000
DTEND;TZID=Europe/Paris:20270513T181500
DTSTAMP:20260424T155950
CREATED:20240318T182329Z
LAST-MODIFIED:20240318T182329Z
UID:16012-1810229400-1810232100@www.sportsusman.de
SUMMARY:REHASPORT WASSER   RÖHRNBACH
DESCRIPTION:
URL:https://www.sportsusman.de/kursekalender/rehasport-wasser-2/2027-05-13/
LOCATION:Hallenbad Grund- und Mittelschule Röhrnbach\, Froschau 10\, Röhrnbach\, 94133\, Deutschland
ATTACH;FMTTYPE=image/jpeg:https://www.sportsusman.de/wp-content/uploads/2022/01/rehasport_wasser.jpg
ORGANIZER;CN="Sport & Entspannung Susman":MAILTO:susman@sportsusman.de
END:VEVENT
BEGIN:VEVENT
DTSTART;TZID=Europe/Paris:20270514T163000
DTEND;TZID=Europe/Paris:20270514T171500
DTSTAMP:20260424T155950
CREATED:20240318T220814Z
LAST-MODIFIED:20240318T220814Z
UID:16015-1810312200-1810314900@www.sportsusman.de
SUMMARY:REHASPORT Orthopädie HAUZENBERG
DESCRIPTION:
URL:https://www.sportsusman.de/kursekalender/rehasport-orthopaedie-hauzenberg/2027-05-14/
LOCATION:Dreifachturnhalle Hauzenberg\, Eckmühlstraße 30\, Hauzenberg\, Bayern\, 94051\, Deutschland
ORGANIZER;CN="Sport & Entspannung Susman":MAILTO:susman@sportsusman.de
END:VEVENT
BEGIN:VEVENT
DTSTART;TZID=Europe/Paris:20270514T173000
DTEND;TZID=Europe/Paris:20270514T181500
DTSTAMP:20260424T155950
CREATED:20240318T220814Z
LAST-MODIFIED:20240318T220814Z
UID:16016-1810315800-1810318500@www.sportsusman.de
SUMMARY:REHASPORT Orthopädie HAUZENBERG
DESCRIPTION:
URL:https://www.sportsusman.de/kursekalender/rehasport-orthopaedie-hauzenberg/2027-05-14/
LOCATION:Dreifachturnhalle Hauzenberg\, Eckmühlstraße 30\, Hauzenberg\, Bayern\, 94051\, Deutschland
ORGANIZER;CN="Sport & Entspannung Susman":MAILTO:susman@sportsusman.de
END:VEVENT
BEGIN:VEVENT
DTSTART;TZID=Europe/Paris:20270517T100000
DTEND;TZID=Europe/Paris:20270517T104500
DTSTAMP:20260424T155950
CREATED:20240318T184809Z
LAST-MODIFIED:20240318T184809Z
UID:16017-1810548000-1810550700@www.sportsusman.de
SUMMARY:REHASPORT ORTHOPÄDIE  Röhrnbach
DESCRIPTION:
URL:https://www.sportsusman.de/kursekalender/rehasport-orthopaedie/2027-05-17/
LOCATION:Sport & Entspannung Susman\, Goldener Steig 26\, Röhrnbach\, 94133\, Deutschland
ORGANIZER;CN="Sport & Entspannung Susman":MAILTO:susman@sportsusman.de
END:VEVENT
BEGIN:VEVENT
DTSTART;TZID=Europe/Paris:20270517T100000
DTEND;TZID=Europe/Paris:20270517T104500
DTSTAMP:20260424T155950
CREATED:20240318T234657Z
LAST-MODIFIED:20240318T234657Z
UID:16013-1810548000-1810550700@www.sportsusman.de
SUMMARY:REHASPORT WASSER  Röhrnbach
DESCRIPTION:
URL:https://www.sportsusman.de/kursekalender/rehasport-wasser-roehrnbach/2027-05-17/
LOCATION:Hallenbad Grund- und Mittelschule Röhrnbach\, Froschau 10\, Röhrnbach\, 94133\, Deutschland
ATTACH;FMTTYPE=image/jpeg:https://www.sportsusman.de/wp-content/uploads/2022/01/rehasport_wasser.jpg
ORGANIZER;CN="Sport & Entspannung Susman":MAILTO:susman@sportsusman.de
END:VEVENT
BEGIN:VEVENT
DTSTART;TZID=Europe/Paris:20270517T160000
DTEND;TZID=Europe/Paris:20270517T164500
DTSTAMP:20260424T155950
CREATED:20240318T220814Z
LAST-MODIFIED:20240318T220814Z
UID:16014-1810569600-1810572300@www.sportsusman.de
SUMMARY:REHASPORT Orthopädie HAUZENBERG
DESCRIPTION:
URL:https://www.sportsusman.de/kursekalender/rehasport-orthopaedie-hauzenberg/2027-05-17/
LOCATION:Dreifachturnhalle Hauzenberg\, Eckmühlstraße 30\, Hauzenberg\, Bayern\, 94051\, Deutschland
ORGANIZER;CN="Sport & Entspannung Susman":MAILTO:susman@sportsusman.de
END:VEVENT
BEGIN:VEVENT
DTSTART;TZID=Europe/Paris:20270517T170000
DTEND;TZID=Europe/Paris:20270517T174500
DTSTAMP:20260424T155950
CREATED:20240318T184809Z
LAST-MODIFIED:20240318T184809Z
UID:16018-1810573200-1810575900@www.sportsusman.de
SUMMARY:REHASPORT ORTHOPÄDIE  Röhrnbach
DESCRIPTION:
URL:https://www.sportsusman.de/kursekalender/rehasport-orthopaedie/2027-05-17/
LOCATION:Sport & Entspannung Susman\, Goldener Steig 26\, Röhrnbach\, 94133\, Deutschland
ORGANIZER;CN="Sport & Entspannung Susman":MAILTO:susman@sportsusman.de
END:VEVENT
BEGIN:VEVENT
DTSTART;TZID=Europe/Paris:20270517T180000
DTEND;TZID=Europe/Paris:20270517T184500
DTSTAMP:20260424T155950
CREATED:20240318T184809Z
LAST-MODIFIED:20240318T184809Z
UID:16019-1810576800-1810579500@www.sportsusman.de
SUMMARY:REHASPORT ORTHOPÄDIE  Röhrnbach
DESCRIPTION:
URL:https://www.sportsusman.de/kursekalender/rehasport-orthopaedie/2027-05-17/
LOCATION:Sport & Entspannung Susman\, Goldener Steig 26\, Röhrnbach\, 94133\, Deutschland
ORGANIZER;CN="Sport & Entspannung Susman":MAILTO:susman@sportsusman.de
END:VEVENT
BEGIN:VEVENT
DTSTART;TZID=Europe/Paris:20270519T173000
DTEND;TZID=Europe/Paris:20270519T181500
DTSTAMP:20260424T155950
CREATED:20240709T065117Z
LAST-MODIFIED:20240709T065117Z
UID:16020-1810747800-1810750500@www.sportsusman.de
SUMMARY:Rehasport HERZ
DESCRIPTION:
URL:https://www.sportsusman.de/kursekalender/rehasport-herz/2027-05-19/
LOCATION:Josef Eder Halle Roehrnbach\, Rathausstraße 1\, Roehrnbach\, Bayern\, 94133\, Deutschland
ATTACH;FMTTYPE=application/pdf:https://www.sportsusman.de/wp-content/uploads/2024/07/Kopie-von-Rehasport-Herz-verschoben.pdf
ORGANIZER;CN="Sport & Entspannung Susman":MAILTO:susman@sportsusman.de
END:VEVENT
BEGIN:VEVENT
DTSTART;TZID=Europe/Paris:20270520T110000
DTEND;TZID=Europe/Paris:20270520T114500
DTSTAMP:20260424T155950
CREATED:20240318T191903Z
LAST-MODIFIED:20240318T191903Z
UID:16021-1810810800-1810813500@www.sportsusman.de
SUMMARY:REHASPORT Innere Medizin
DESCRIPTION:
URL:https://www.sportsusman.de/kursekalender/rehasport-innere-medizin/2027-05-20/
LOCATION:Sport & Entspannung Susman\, Goldener Steig 26\, Röhrnbach\, Bayern\, 94133\, Deutschland
ORGANIZER;CN="Sport & Entspannung Susman":MAILTO:susman@sportsusman.de
END:VEVENT
BEGIN:VEVENT
DTSTART;TZID=Europe/Paris:20270520T173000
DTEND;TZID=Europe/Paris:20270520T181500
DTSTAMP:20260424T155950
CREATED:20240318T182329Z
LAST-MODIFIED:20240318T182329Z
UID:16022-1810834200-1810836900@www.sportsusman.de
SUMMARY:REHASPORT WASSER   RÖHRNBACH
DESCRIPTION:
URL:https://www.sportsusman.de/kursekalender/rehasport-wasser-2/2027-05-20/
LOCATION:Hallenbad Grund- und Mittelschule Röhrnbach\, Froschau 10\, Röhrnbach\, 94133\, Deutschland
ATTACH;FMTTYPE=image/jpeg:https://www.sportsusman.de/wp-content/uploads/2022/01/rehasport_wasser.jpg
ORGANIZER;CN="Sport & Entspannung Susman":MAILTO:susman@sportsusman.de
END:VEVENT
BEGIN:VEVENT
DTSTART;TZID=Europe/Paris:20270521T163000
DTEND;TZID=Europe/Paris:20270521T171500
DTSTAMP:20260424T155950
CREATED:20240318T220814Z
LAST-MODIFIED:20240318T220814Z
UID:16024-1810917000-1810919700@www.sportsusman.de
SUMMARY:REHASPORT Orthopädie HAUZENBERG
DESCRIPTION:
URL:https://www.sportsusman.de/kursekalender/rehasport-orthopaedie-hauzenberg/2027-05-21/
LOCATION:Dreifachturnhalle Hauzenberg\, Eckmühlstraße 30\, Hauzenberg\, Bayern\, 94051\, Deutschland
ORGANIZER;CN="Sport & Entspannung Susman":MAILTO:susman@sportsusman.de
END:VEVENT
BEGIN:VEVENT
DTSTART;TZID=Europe/Paris:20270521T173000
DTEND;TZID=Europe/Paris:20270521T181500
DTSTAMP:20260424T155950
CREATED:20240318T220814Z
LAST-MODIFIED:20240318T220814Z
UID:16025-1810920600-1810923300@www.sportsusman.de
SUMMARY:REHASPORT Orthopädie HAUZENBERG
DESCRIPTION:
URL:https://www.sportsusman.de/kursekalender/rehasport-orthopaedie-hauzenberg/2027-05-21/
LOCATION:Dreifachturnhalle Hauzenberg\, Eckmühlstraße 30\, Hauzenberg\, Bayern\, 94051\, Deutschland
ORGANIZER;CN="Sport & Entspannung Susman":MAILTO:susman@sportsusman.de
END:VEVENT
BEGIN:VEVENT
DTSTART;TZID=Europe/Paris:20270524T100000
DTEND;TZID=Europe/Paris:20270524T104500
DTSTAMP:20260424T155950
CREATED:20240318T184809Z
LAST-MODIFIED:20240318T184809Z
UID:16026-1811152800-1811155500@www.sportsusman.de
SUMMARY:REHASPORT ORTHOPÄDIE  Röhrnbach
DESCRIPTION:
URL:https://www.sportsusman.de/kursekalender/rehasport-orthopaedie/2027-05-24/
LOCATION:Sport & Entspannung Susman\, Goldener Steig 26\, Röhrnbach\, 94133\, Deutschland
ORGANIZER;CN="Sport & Entspannung Susman":MAILTO:susman@sportsusman.de
END:VEVENT
BEGIN:VEVENT
DTSTART;TZID=Europe/Paris:20270524T100000
DTEND;TZID=Europe/Paris:20270524T104500
DTSTAMP:20260424T155950
CREATED:20240318T234657Z
LAST-MODIFIED:20240318T234657Z
UID:16029-1811152800-1811155500@www.sportsusman.de
SUMMARY:REHASPORT WASSER  Röhrnbach
DESCRIPTION:
URL:https://www.sportsusman.de/kursekalender/rehasport-wasser-roehrnbach/2027-05-24/
LOCATION:Hallenbad Grund- und Mittelschule Röhrnbach\, Froschau 10\, Röhrnbach\, 94133\, Deutschland
ATTACH;FMTTYPE=image/jpeg:https://www.sportsusman.de/wp-content/uploads/2022/01/rehasport_wasser.jpg
ORGANIZER;CN="Sport & Entspannung Susman":MAILTO:susman@sportsusman.de
END:VEVENT
BEGIN:VEVENT
DTSTART;TZID=Europe/Paris:20270524T160000
DTEND;TZID=Europe/Paris:20270524T164500
DTSTAMP:20260424T155950
CREATED:20240318T220814Z
LAST-MODIFIED:20240318T220814Z
UID:16023-1811174400-1811177100@www.sportsusman.de
SUMMARY:REHASPORT Orthopädie HAUZENBERG
DESCRIPTION:
URL:https://www.sportsusman.de/kursekalender/rehasport-orthopaedie-hauzenberg/2027-05-24/
LOCATION:Dreifachturnhalle Hauzenberg\, Eckmühlstraße 30\, Hauzenberg\, Bayern\, 94051\, Deutschland
ORGANIZER;CN="Sport & Entspannung Susman":MAILTO:susman@sportsusman.de
END:VEVENT
BEGIN:VEVENT
DTSTART;TZID=Europe/Paris:20270524T170000
DTEND;TZID=Europe/Paris:20270524T174500
DTSTAMP:20260424T155950
CREATED:20240318T184809Z
LAST-MODIFIED:20240318T184809Z
UID:16027-1811178000-1811180700@www.sportsusman.de
SUMMARY:REHASPORT ORTHOPÄDIE  Röhrnbach
DESCRIPTION:
URL:https://www.sportsusman.de/kursekalender/rehasport-orthopaedie/2027-05-24/
LOCATION:Sport & Entspannung Susman\, Goldener Steig 26\, Röhrnbach\, 94133\, Deutschland
ORGANIZER;CN="Sport & Entspannung Susman":MAILTO:susman@sportsusman.de
END:VEVENT
BEGIN:VEVENT
DTSTART;TZID=Europe/Paris:20270524T180000
DTEND;TZID=Europe/Paris:20270524T184500
DTSTAMP:20260424T155950
CREATED:20240318T184809Z
LAST-MODIFIED:20240318T184809Z
UID:16028-1811181600-1811184300@www.sportsusman.de
SUMMARY:REHASPORT ORTHOPÄDIE  Röhrnbach
DESCRIPTION:
URL:https://www.sportsusman.de/kursekalender/rehasport-orthopaedie/2027-05-24/
LOCATION:Sport & Entspannung Susman\, Goldener Steig 26\, Röhrnbach\, 94133\, Deutschland
ORGANIZER;CN="Sport & Entspannung Susman":MAILTO:susman@sportsusman.de
END:VEVENT
BEGIN:VEVENT
DTSTART;TZID=Europe/Paris:20270526T173000
DTEND;TZID=Europe/Paris:20270526T181500
DTSTAMP:20260424T155950
CREATED:20240709T065117Z
LAST-MODIFIED:20240709T065117Z
UID:16030-1811352600-1811355300@www.sportsusman.de
SUMMARY:Rehasport HERZ
DESCRIPTION:
URL:https://www.sportsusman.de/kursekalender/rehasport-herz/2027-05-26/
LOCATION:Josef Eder Halle Roehrnbach\, Rathausstraße 1\, Roehrnbach\, Bayern\, 94133\, Deutschland
ATTACH;FMTTYPE=application/pdf:https://www.sportsusman.de/wp-content/uploads/2024/07/Kopie-von-Rehasport-Herz-verschoben.pdf
ORGANIZER;CN="Sport & Entspannung Susman":MAILTO:susman@sportsusman.de
END:VEVENT
BEGIN:VEVENT
DTSTART;TZID=Europe/Paris:20270527T110000
DTEND;TZID=Europe/Paris:20270527T114500
DTSTAMP:20260424T155950
CREATED:20240318T191903Z
LAST-MODIFIED:20240318T191903Z
UID:16032-1811415600-1811418300@www.sportsusman.de
SUMMARY:REHASPORT Innere Medizin
DESCRIPTION:
URL:https://www.sportsusman.de/kursekalender/rehasport-innere-medizin/2027-05-27/
LOCATION:Sport & Entspannung Susman\, Goldener Steig 26\, Röhrnbach\, Bayern\, 94133\, Deutschland
ORGANIZER;CN="Sport & Entspannung Susman":MAILTO:susman@sportsusman.de
END:VEVENT
BEGIN:VEVENT
DTSTART;TZID=Europe/Paris:20270527T173000
DTEND;TZID=Europe/Paris:20270527T181500
DTSTAMP:20260424T155950
CREATED:20240318T182329Z
LAST-MODIFIED:20240318T182329Z
UID:16031-1811439000-1811441700@www.sportsusman.de
SUMMARY:REHASPORT WASSER   RÖHRNBACH
DESCRIPTION:
URL:https://www.sportsusman.de/kursekalender/rehasport-wasser-2/2027-05-27/
LOCATION:Hallenbad Grund- und Mittelschule Röhrnbach\, Froschau 10\, Röhrnbach\, 94133\, Deutschland
ATTACH;FMTTYPE=image/jpeg:https://www.sportsusman.de/wp-content/uploads/2022/01/rehasport_wasser.jpg
ORGANIZER;CN="Sport & Entspannung Susman":MAILTO:susman@sportsusman.de
END:VEVENT
BEGIN:VEVENT
DTSTART;TZID=Europe/Paris:20270528T163000
DTEND;TZID=Europe/Paris:20270528T171500
DTSTAMP:20260424T155950
CREATED:20240318T220814Z
LAST-MODIFIED:20240318T220814Z
UID:16034-1811521800-1811524500@www.sportsusman.de
SUMMARY:REHASPORT Orthopädie HAUZENBERG
DESCRIPTION:
URL:https://www.sportsusman.de/kursekalender/rehasport-orthopaedie-hauzenberg/2027-05-28/
LOCATION:Dreifachturnhalle Hauzenberg\, Eckmühlstraße 30\, Hauzenberg\, Bayern\, 94051\, Deutschland
ORGANIZER;CN="Sport & Entspannung Susman":MAILTO:susman@sportsusman.de
END:VEVENT
BEGIN:VEVENT
DTSTART;TZID=Europe/Paris:20270528T173000
DTEND;TZID=Europe/Paris:20270528T181500
DTSTAMP:20260424T155950
CREATED:20240318T220814Z
LAST-MODIFIED:20240318T220814Z
UID:16035-1811525400-1811528100@www.sportsusman.de
SUMMARY:REHASPORT Orthopädie HAUZENBERG
DESCRIPTION:
URL:https://www.sportsusman.de/kursekalender/rehasport-orthopaedie-hauzenberg/2027-05-28/
LOCATION:Dreifachturnhalle Hauzenberg\, Eckmühlstraße 30\, Hauzenberg\, Bayern\, 94051\, Deutschland
ORGANIZER;CN="Sport & Entspannung Susman":MAILTO:susman@sportsusman.de
END:VEVENT
BEGIN:VEVENT
DTSTART;TZID=Europe/Paris:20270531T100000
DTEND;TZID=Europe/Paris:20270531T104500
DTSTAMP:20260424T155950
CREATED:20240318T184809Z
LAST-MODIFIED:20240318T184809Z
UID:16036-1811757600-1811760300@www.sportsusman.de
SUMMARY:REHASPORT ORTHOPÄDIE  Röhrnbach
DESCRIPTION:
URL:https://www.sportsusman.de/kursekalender/rehasport-orthopaedie/2027-05-31/
LOCATION:Sport & Entspannung Susman\, Goldener Steig 26\, Röhrnbach\, 94133\, Deutschland
ORGANIZER;CN="Sport & Entspannung Susman":MAILTO:susman@sportsusman.de
END:VEVENT
BEGIN:VEVENT
DTSTART;TZID=Europe/Paris:20270531T100000
DTEND;TZID=Europe/Paris:20270531T104500
DTSTAMP:20260424T155950
CREATED:20240318T234657Z
LAST-MODIFIED:20240318T234657Z
UID:16039-1811757600-1811760300@www.sportsusman.de
SUMMARY:REHASPORT WASSER  Röhrnbach
DESCRIPTION:
URL:https://www.sportsusman.de/kursekalender/rehasport-wasser-roehrnbach/2027-05-31/
LOCATION:Hallenbad Grund- und Mittelschule Röhrnbach\, Froschau 10\, Röhrnbach\, 94133\, Deutschland
ATTACH;FMTTYPE=image/jpeg:https://www.sportsusman.de/wp-content/uploads/2022/01/rehasport_wasser.jpg
ORGANIZER;CN="Sport & Entspannung Susman":MAILTO:susman@sportsusman.de
END:VEVENT
END:VCALENDAR