BEGIN:VCALENDAR
VERSION:2.0
PRODID:-//Sport&amp;Entspannung Susman - ECPv6.3.4//NONSGML v1.0//EN
CALSCALE:GREGORIAN
METHOD:PUBLISH
X-WR-CALNAME:Sport&amp;Entspannung Susman
X-ORIGINAL-URL:https://www.sportsusman.de
X-WR-CALDESC:Veranstaltungen für Sport&amp;Entspannung Susman
REFRESH-INTERVAL;VALUE=DURATION:PT1H
X-Robots-Tag:noindex
X-PUBLISHED-TTL:PT1H
BEGIN:VTIMEZONE
TZID:Europe/Paris
BEGIN:DAYLIGHT
TZOFFSETFROM:+0100
TZOFFSETTO:+0200
TZNAME:CEST
DTSTART:20280326T010000
END:DAYLIGHT
BEGIN:STANDARD
TZOFFSETFROM:+0200
TZOFFSETTO:+0100
TZNAME:CET
DTSTART:20281029T010000
END:STANDARD
END:VTIMEZONE
BEGIN:VEVENT
DTSTART;TZID=Europe/Paris:20280207T180000
DTEND;TZID=Europe/Paris:20280207T184500
DTSTAMP:20260426T025123
CREATED:20240318T184809Z
LAST-MODIFIED:20240318T184809Z
UID:16396-1833559200-1833561900@www.sportsusman.de
SUMMARY:REHASPORT ORTHOPÄDIE  Röhrnbach
DESCRIPTION:
URL:https://www.sportsusman.de/kursekalender/rehasport-orthopaedie/2028-02-07/
LOCATION:Sport & Entspannung Susman\, Goldener Steig 26\, Röhrnbach\, 94133\, Deutschland
ORGANIZER;CN="Sport & Entspannung Susman":MAILTO:susman@sportsusman.de
END:VEVENT
BEGIN:VEVENT
DTSTART;TZID=Europe/Paris:20280209T173000
DTEND;TZID=Europe/Paris:20280209T181500
DTSTAMP:20260426T025123
CREATED:20240709T065117Z
LAST-MODIFIED:20240709T065117Z
UID:16401-1833730200-1833732900@www.sportsusman.de
SUMMARY:Rehasport HERZ
DESCRIPTION:
URL:https://www.sportsusman.de/kursekalender/rehasport-herz/2028-02-09/
LOCATION:Josef Eder Halle Roehrnbach\, Rathausstraße 1\, Roehrnbach\, Bayern\, 94133\, Deutschland
ATTACH;FMTTYPE=application/pdf:https://www.sportsusman.de/wp-content/uploads/2024/07/Kopie-von-Rehasport-Herz-verschoben.pdf
ORGANIZER;CN="Sport & Entspannung Susman":MAILTO:susman@sportsusman.de
END:VEVENT
BEGIN:VEVENT
DTSTART;TZID=Europe/Paris:20280210T110000
DTEND;TZID=Europe/Paris:20280210T114500
DTSTAMP:20260426T025123
CREATED:20240318T191903Z
LAST-MODIFIED:20240318T191903Z
UID:16403-1833793200-1833795900@www.sportsusman.de
SUMMARY:REHASPORT Innere Medizin
DESCRIPTION:
URL:https://www.sportsusman.de/kursekalender/rehasport-innere-medizin/2028-02-10/
LOCATION:Sport & Entspannung Susman\, Goldener Steig 26\, Röhrnbach\, Bayern\, 94133\, Deutschland
ORGANIZER;CN="Sport & Entspannung Susman":MAILTO:susman@sportsusman.de
END:VEVENT
BEGIN:VEVENT
DTSTART;TZID=Europe/Paris:20280210T173000
DTEND;TZID=Europe/Paris:20280210T181500
DTSTAMP:20260426T025123
CREATED:20240318T182329Z
LAST-MODIFIED:20240318T182329Z
UID:16402-1833816600-1833819300@www.sportsusman.de
SUMMARY:REHASPORT WASSER   RÖHRNBACH
DESCRIPTION:
URL:https://www.sportsusman.de/kursekalender/rehasport-wasser-2/2028-02-10/
LOCATION:Hallenbad Grund- und Mittelschule Röhrnbach\, Froschau 10\, Röhrnbach\, 94133\, Deutschland
ATTACH;FMTTYPE=image/jpeg:https://www.sportsusman.de/wp-content/uploads/2022/01/rehasport_wasser.jpg
ORGANIZER;CN="Sport & Entspannung Susman":MAILTO:susman@sportsusman.de
END:VEVENT
BEGIN:VEVENT
DTSTART;TZID=Europe/Paris:20280211T163000
DTEND;TZID=Europe/Paris:20280211T171500
DTSTAMP:20260426T025123
CREATED:20240318T220814Z
LAST-MODIFIED:20240318T220814Z
UID:16408-1833899400-1833902100@www.sportsusman.de
SUMMARY:REHASPORT Orthopädie HAUZENBERG
DESCRIPTION:
URL:https://www.sportsusman.de/kursekalender/rehasport-orthopaedie-hauzenberg/2028-02-11/
LOCATION:Dreifachturnhalle Hauzenberg\, Eckmühlstraße 30\, Hauzenberg\, Bayern\, 94051\, Deutschland
ORGANIZER;CN="Sport & Entspannung Susman":MAILTO:susman@sportsusman.de
END:VEVENT
BEGIN:VEVENT
DTSTART;TZID=Europe/Paris:20280211T173000
DTEND;TZID=Europe/Paris:20280211T181500
DTSTAMP:20260426T025123
CREATED:20240318T220814Z
LAST-MODIFIED:20240318T220814Z
UID:16409-1833903000-1833905700@www.sportsusman.de
SUMMARY:REHASPORT Orthopädie HAUZENBERG
DESCRIPTION:
URL:https://www.sportsusman.de/kursekalender/rehasport-orthopaedie-hauzenberg/2028-02-11/
LOCATION:Dreifachturnhalle Hauzenberg\, Eckmühlstraße 30\, Hauzenberg\, Bayern\, 94051\, Deutschland
ORGANIZER;CN="Sport & Entspannung Susman":MAILTO:susman@sportsusman.de
END:VEVENT
BEGIN:VEVENT
DTSTART;TZID=Europe/Paris:20280214T100000
DTEND;TZID=Europe/Paris:20280214T104500
DTSTAMP:20260426T025123
CREATED:20240318T184809Z
LAST-MODIFIED:20240318T184809Z
UID:16404-1834135200-1834137900@www.sportsusman.de
SUMMARY:REHASPORT ORTHOPÄDIE  Röhrnbach
DESCRIPTION:
URL:https://www.sportsusman.de/kursekalender/rehasport-orthopaedie/2028-02-14/
LOCATION:Sport & Entspannung Susman\, Goldener Steig 26\, Röhrnbach\, 94133\, Deutschland
ORGANIZER;CN="Sport & Entspannung Susman":MAILTO:susman@sportsusman.de
END:VEVENT
BEGIN:VEVENT
DTSTART;TZID=Europe/Paris:20280214T100000
DTEND;TZID=Europe/Paris:20280214T104500
DTSTAMP:20260426T025123
CREATED:20240318T234657Z
LAST-MODIFIED:20240318T234657Z
UID:16410-1834135200-1834137900@www.sportsusman.de
SUMMARY:REHASPORT WASSER  Röhrnbach
DESCRIPTION:
URL:https://www.sportsusman.de/kursekalender/rehasport-wasser-roehrnbach/2028-02-14/
LOCATION:Hallenbad Grund- und Mittelschule Röhrnbach\, Froschau 10\, Röhrnbach\, 94133\, Deutschland
ATTACH;FMTTYPE=image/jpeg:https://www.sportsusman.de/wp-content/uploads/2022/01/rehasport_wasser.jpg
ORGANIZER;CN="Sport & Entspannung Susman":MAILTO:susman@sportsusman.de
END:VEVENT
BEGIN:VEVENT
DTSTART;TZID=Europe/Paris:20280214T160000
DTEND;TZID=Europe/Paris:20280214T164500
DTSTAMP:20260426T025123
CREATED:20240318T220814Z
LAST-MODIFIED:20240318T220814Z
UID:16407-1834156800-1834159500@www.sportsusman.de
SUMMARY:REHASPORT Orthopädie HAUZENBERG
DESCRIPTION:
URL:https://www.sportsusman.de/kursekalender/rehasport-orthopaedie-hauzenberg/2028-02-14/
LOCATION:Dreifachturnhalle Hauzenberg\, Eckmühlstraße 30\, Hauzenberg\, Bayern\, 94051\, Deutschland
ORGANIZER;CN="Sport & Entspannung Susman":MAILTO:susman@sportsusman.de
END:VEVENT
BEGIN:VEVENT
DTSTART;TZID=Europe/Paris:20280214T170000
DTEND;TZID=Europe/Paris:20280214T174500
DTSTAMP:20260426T025123
CREATED:20240318T184809Z
LAST-MODIFIED:20240318T184809Z
UID:16405-1834160400-1834163100@www.sportsusman.de
SUMMARY:REHASPORT ORTHOPÄDIE  Röhrnbach
DESCRIPTION:
URL:https://www.sportsusman.de/kursekalender/rehasport-orthopaedie/2028-02-14/
LOCATION:Sport & Entspannung Susman\, Goldener Steig 26\, Röhrnbach\, 94133\, Deutschland
ORGANIZER;CN="Sport & Entspannung Susman":MAILTO:susman@sportsusman.de
END:VEVENT
BEGIN:VEVENT
DTSTART;TZID=Europe/Paris:20280214T180000
DTEND;TZID=Europe/Paris:20280214T184500
DTSTAMP:20260426T025123
CREATED:20240318T184809Z
LAST-MODIFIED:20240318T184809Z
UID:16406-1834164000-1834166700@www.sportsusman.de
SUMMARY:REHASPORT ORTHOPÄDIE  Röhrnbach
DESCRIPTION:
URL:https://www.sportsusman.de/kursekalender/rehasport-orthopaedie/2028-02-14/
LOCATION:Sport & Entspannung Susman\, Goldener Steig 26\, Röhrnbach\, 94133\, Deutschland
ORGANIZER;CN="Sport & Entspannung Susman":MAILTO:susman@sportsusman.de
END:VEVENT
BEGIN:VEVENT
DTSTART;TZID=Europe/Paris:20280216T173000
DTEND;TZID=Europe/Paris:20280216T181500
DTSTAMP:20260426T025123
CREATED:20240709T065117Z
LAST-MODIFIED:20240709T065117Z
UID:16411-1834335000-1834337700@www.sportsusman.de
SUMMARY:Rehasport HERZ
DESCRIPTION:
URL:https://www.sportsusman.de/kursekalender/rehasport-herz/2028-02-16/
LOCATION:Josef Eder Halle Roehrnbach\, Rathausstraße 1\, Roehrnbach\, Bayern\, 94133\, Deutschland
ATTACH;FMTTYPE=application/pdf:https://www.sportsusman.de/wp-content/uploads/2024/07/Kopie-von-Rehasport-Herz-verschoben.pdf
ORGANIZER;CN="Sport & Entspannung Susman":MAILTO:susman@sportsusman.de
END:VEVENT
BEGIN:VEVENT
DTSTART;TZID=Europe/Paris:20280217T110000
DTEND;TZID=Europe/Paris:20280217T114500
DTSTAMP:20260426T025123
CREATED:20240318T191903Z
LAST-MODIFIED:20240318T191903Z
UID:16413-1834398000-1834400700@www.sportsusman.de
SUMMARY:REHASPORT Innere Medizin
DESCRIPTION:
URL:https://www.sportsusman.de/kursekalender/rehasport-innere-medizin/2028-02-17/
LOCATION:Sport & Entspannung Susman\, Goldener Steig 26\, Röhrnbach\, Bayern\, 94133\, Deutschland
ORGANIZER;CN="Sport & Entspannung Susman":MAILTO:susman@sportsusman.de
END:VEVENT
BEGIN:VEVENT
DTSTART;TZID=Europe/Paris:20280217T173000
DTEND;TZID=Europe/Paris:20280217T181500
DTSTAMP:20260426T025123
CREATED:20240318T182329Z
LAST-MODIFIED:20240318T182329Z
UID:16412-1834421400-1834424100@www.sportsusman.de
SUMMARY:REHASPORT WASSER   RÖHRNBACH
DESCRIPTION:
URL:https://www.sportsusman.de/kursekalender/rehasport-wasser-2/2028-02-17/
LOCATION:Hallenbad Grund- und Mittelschule Röhrnbach\, Froschau 10\, Röhrnbach\, 94133\, Deutschland
ATTACH;FMTTYPE=image/jpeg:https://www.sportsusman.de/wp-content/uploads/2022/01/rehasport_wasser.jpg
ORGANIZER;CN="Sport & Entspannung Susman":MAILTO:susman@sportsusman.de
END:VEVENT
BEGIN:VEVENT
DTSTART;TZID=Europe/Paris:20280218T163000
DTEND;TZID=Europe/Paris:20280218T171500
DTSTAMP:20260426T025123
CREATED:20240318T220814Z
LAST-MODIFIED:20240318T220814Z
UID:16418-1834504200-1834506900@www.sportsusman.de
SUMMARY:REHASPORT Orthopädie HAUZENBERG
DESCRIPTION:
URL:https://www.sportsusman.de/kursekalender/rehasport-orthopaedie-hauzenberg/2028-02-18/
LOCATION:Dreifachturnhalle Hauzenberg\, Eckmühlstraße 30\, Hauzenberg\, Bayern\, 94051\, Deutschland
ORGANIZER;CN="Sport & Entspannung Susman":MAILTO:susman@sportsusman.de
END:VEVENT
BEGIN:VEVENT
DTSTART;TZID=Europe/Paris:20280218T173000
DTEND;TZID=Europe/Paris:20280218T181500
DTSTAMP:20260426T025123
CREATED:20240318T220814Z
LAST-MODIFIED:20240318T220814Z
UID:16419-1834507800-1834510500@www.sportsusman.de
SUMMARY:REHASPORT Orthopädie HAUZENBERG
DESCRIPTION:
URL:https://www.sportsusman.de/kursekalender/rehasport-orthopaedie-hauzenberg/2028-02-18/
LOCATION:Dreifachturnhalle Hauzenberg\, Eckmühlstraße 30\, Hauzenberg\, Bayern\, 94051\, Deutschland
ORGANIZER;CN="Sport & Entspannung Susman":MAILTO:susman@sportsusman.de
END:VEVENT
BEGIN:VEVENT
DTSTART;TZID=Europe/Paris:20280221T100000
DTEND;TZID=Europe/Paris:20280221T104500
DTSTAMP:20260426T025123
CREATED:20240318T184809Z
LAST-MODIFIED:20240318T184809Z
UID:16414-1834740000-1834742700@www.sportsusman.de
SUMMARY:REHASPORT ORTHOPÄDIE  Röhrnbach
DESCRIPTION:
URL:https://www.sportsusman.de/kursekalender/rehasport-orthopaedie/2028-02-21/
LOCATION:Sport & Entspannung Susman\, Goldener Steig 26\, Röhrnbach\, 94133\, Deutschland
ORGANIZER;CN="Sport & Entspannung Susman":MAILTO:susman@sportsusman.de
END:VEVENT
BEGIN:VEVENT
DTSTART;TZID=Europe/Paris:20280221T100000
DTEND;TZID=Europe/Paris:20280221T104500
DTSTAMP:20260426T025123
CREATED:20240318T234657Z
LAST-MODIFIED:20240318T234657Z
UID:16420-1834740000-1834742700@www.sportsusman.de
SUMMARY:REHASPORT WASSER  Röhrnbach
DESCRIPTION:
URL:https://www.sportsusman.de/kursekalender/rehasport-wasser-roehrnbach/2028-02-21/
LOCATION:Hallenbad Grund- und Mittelschule Röhrnbach\, Froschau 10\, Röhrnbach\, 94133\, Deutschland
ATTACH;FMTTYPE=image/jpeg:https://www.sportsusman.de/wp-content/uploads/2022/01/rehasport_wasser.jpg
ORGANIZER;CN="Sport & Entspannung Susman":MAILTO:susman@sportsusman.de
END:VEVENT
BEGIN:VEVENT
DTSTART;TZID=Europe/Paris:20280221T160000
DTEND;TZID=Europe/Paris:20280221T164500
DTSTAMP:20260426T025123
CREATED:20240318T220814Z
LAST-MODIFIED:20240318T220814Z
UID:16417-1834761600-1834764300@www.sportsusman.de
SUMMARY:REHASPORT Orthopädie HAUZENBERG
DESCRIPTION:
URL:https://www.sportsusman.de/kursekalender/rehasport-orthopaedie-hauzenberg/2028-02-21/
LOCATION:Dreifachturnhalle Hauzenberg\, Eckmühlstraße 30\, Hauzenberg\, Bayern\, 94051\, Deutschland
ORGANIZER;CN="Sport & Entspannung Susman":MAILTO:susman@sportsusman.de
END:VEVENT
BEGIN:VEVENT
DTSTART;TZID=Europe/Paris:20280221T170000
DTEND;TZID=Europe/Paris:20280221T174500
DTSTAMP:20260426T025123
CREATED:20240318T184809Z
LAST-MODIFIED:20240318T184809Z
UID:16415-1834765200-1834767900@www.sportsusman.de
SUMMARY:REHASPORT ORTHOPÄDIE  Röhrnbach
DESCRIPTION:
URL:https://www.sportsusman.de/kursekalender/rehasport-orthopaedie/2028-02-21/
LOCATION:Sport & Entspannung Susman\, Goldener Steig 26\, Röhrnbach\, 94133\, Deutschland
ORGANIZER;CN="Sport & Entspannung Susman":MAILTO:susman@sportsusman.de
END:VEVENT
BEGIN:VEVENT
DTSTART;TZID=Europe/Paris:20280221T180000
DTEND;TZID=Europe/Paris:20280221T184500
DTSTAMP:20260426T025123
CREATED:20240318T184809Z
LAST-MODIFIED:20240318T184809Z
UID:16416-1834768800-1834771500@www.sportsusman.de
SUMMARY:REHASPORT ORTHOPÄDIE  Röhrnbach
DESCRIPTION:
URL:https://www.sportsusman.de/kursekalender/rehasport-orthopaedie/2028-02-21/
LOCATION:Sport & Entspannung Susman\, Goldener Steig 26\, Röhrnbach\, 94133\, Deutschland
ORGANIZER;CN="Sport & Entspannung Susman":MAILTO:susman@sportsusman.de
END:VEVENT
BEGIN:VEVENT
DTSTART;TZID=Europe/Paris:20280223T173000
DTEND;TZID=Europe/Paris:20280223T181500
DTSTAMP:20260426T025123
CREATED:20240709T065117Z
LAST-MODIFIED:20240709T065117Z
UID:16437-1834939800-1834942500@www.sportsusman.de
SUMMARY:Rehasport HERZ
DESCRIPTION:
URL:https://www.sportsusman.de/kursekalender/rehasport-herz/2028-02-23/
LOCATION:Josef Eder Halle Roehrnbach\, Rathausstraße 1\, Roehrnbach\, Bayern\, 94133\, Deutschland
ATTACH;FMTTYPE=application/pdf:https://www.sportsusman.de/wp-content/uploads/2024/07/Kopie-von-Rehasport-Herz-verschoben.pdf
ORGANIZER;CN="Sport & Entspannung Susman":MAILTO:susman@sportsusman.de
END:VEVENT
BEGIN:VEVENT
DTSTART;TZID=Europe/Paris:20280224T110000
DTEND;TZID=Europe/Paris:20280224T114500
DTSTAMP:20260426T025123
CREATED:20240318T191903Z
LAST-MODIFIED:20240318T191903Z
UID:16439-1835002800-1835005500@www.sportsusman.de
SUMMARY:REHASPORT Innere Medizin
DESCRIPTION:
URL:https://www.sportsusman.de/kursekalender/rehasport-innere-medizin/2028-02-24/
LOCATION:Sport & Entspannung Susman\, Goldener Steig 26\, Röhrnbach\, Bayern\, 94133\, Deutschland
ORGANIZER;CN="Sport & Entspannung Susman":MAILTO:susman@sportsusman.de
END:VEVENT
BEGIN:VEVENT
DTSTART;TZID=Europe/Paris:20280224T173000
DTEND;TZID=Europe/Paris:20280224T181500
DTSTAMP:20260426T025123
CREATED:20240318T182329Z
LAST-MODIFIED:20240318T182329Z
UID:16438-1835026200-1835028900@www.sportsusman.de
SUMMARY:REHASPORT WASSER   RÖHRNBACH
DESCRIPTION:
URL:https://www.sportsusman.de/kursekalender/rehasport-wasser-2/2028-02-24/
LOCATION:Hallenbad Grund- und Mittelschule Röhrnbach\, Froschau 10\, Röhrnbach\, 94133\, Deutschland
ATTACH;FMTTYPE=image/jpeg:https://www.sportsusman.de/wp-content/uploads/2022/01/rehasport_wasser.jpg
ORGANIZER;CN="Sport & Entspannung Susman":MAILTO:susman@sportsusman.de
END:VEVENT
BEGIN:VEVENT
DTSTART;TZID=Europe/Paris:20280225T163000
DTEND;TZID=Europe/Paris:20280225T171500
DTSTAMP:20260426T025123
CREATED:20240318T220814Z
LAST-MODIFIED:20240318T220814Z
UID:16444-1835109000-1835111700@www.sportsusman.de
SUMMARY:REHASPORT Orthopädie HAUZENBERG
DESCRIPTION:
URL:https://www.sportsusman.de/kursekalender/rehasport-orthopaedie-hauzenberg/2028-02-25/
LOCATION:Dreifachturnhalle Hauzenberg\, Eckmühlstraße 30\, Hauzenberg\, Bayern\, 94051\, Deutschland
ORGANIZER;CN="Sport & Entspannung Susman":MAILTO:susman@sportsusman.de
END:VEVENT
BEGIN:VEVENT
DTSTART;TZID=Europe/Paris:20280225T173000
DTEND;TZID=Europe/Paris:20280225T181500
DTSTAMP:20260426T025123
CREATED:20240318T220814Z
LAST-MODIFIED:20240318T220814Z
UID:16445-1835112600-1835115300@www.sportsusman.de
SUMMARY:REHASPORT Orthopädie HAUZENBERG
DESCRIPTION:
URL:https://www.sportsusman.de/kursekalender/rehasport-orthopaedie-hauzenberg/2028-02-25/
LOCATION:Dreifachturnhalle Hauzenberg\, Eckmühlstraße 30\, Hauzenberg\, Bayern\, 94051\, Deutschland
ORGANIZER;CN="Sport & Entspannung Susman":MAILTO:susman@sportsusman.de
END:VEVENT
BEGIN:VEVENT
DTSTART;TZID=Europe/Paris:20280228T100000
DTEND;TZID=Europe/Paris:20280228T104500
DTSTAMP:20260426T025123
CREATED:20240318T184809Z
LAST-MODIFIED:20240318T184809Z
UID:16440-1835344800-1835347500@www.sportsusman.de
SUMMARY:REHASPORT ORTHOPÄDIE  Röhrnbach
DESCRIPTION:
URL:https://www.sportsusman.de/kursekalender/rehasport-orthopaedie/2028-02-28/
LOCATION:Sport & Entspannung Susman\, Goldener Steig 26\, Röhrnbach\, 94133\, Deutschland
ORGANIZER;CN="Sport & Entspannung Susman":MAILTO:susman@sportsusman.de
END:VEVENT
BEGIN:VEVENT
DTSTART;TZID=Europe/Paris:20280228T100000
DTEND;TZID=Europe/Paris:20280228T104500
DTSTAMP:20260426T025123
CREATED:20240318T234657Z
LAST-MODIFIED:20240318T234657Z
UID:16446-1835344800-1835347500@www.sportsusman.de
SUMMARY:REHASPORT WASSER  Röhrnbach
DESCRIPTION:
URL:https://www.sportsusman.de/kursekalender/rehasport-wasser-roehrnbach/2028-02-28/
LOCATION:Hallenbad Grund- und Mittelschule Röhrnbach\, Froschau 10\, Röhrnbach\, 94133\, Deutschland
ATTACH;FMTTYPE=image/jpeg:https://www.sportsusman.de/wp-content/uploads/2022/01/rehasport_wasser.jpg
ORGANIZER;CN="Sport & Entspannung Susman":MAILTO:susman@sportsusman.de
END:VEVENT
BEGIN:VEVENT
DTSTART;TZID=Europe/Paris:20280228T160000
DTEND;TZID=Europe/Paris:20280228T164500
DTSTAMP:20260426T025123
CREATED:20240318T220814Z
LAST-MODIFIED:20240318T220814Z
UID:16443-1835366400-1835369100@www.sportsusman.de
SUMMARY:REHASPORT Orthopädie HAUZENBERG
DESCRIPTION:
URL:https://www.sportsusman.de/kursekalender/rehasport-orthopaedie-hauzenberg/2028-02-28/
LOCATION:Dreifachturnhalle Hauzenberg\, Eckmühlstraße 30\, Hauzenberg\, Bayern\, 94051\, Deutschland
ORGANIZER;CN="Sport & Entspannung Susman":MAILTO:susman@sportsusman.de
END:VEVENT
BEGIN:VEVENT
DTSTART;TZID=Europe/Paris:20280228T170000
DTEND;TZID=Europe/Paris:20280228T174500
DTSTAMP:20260426T025123
CREATED:20240318T184809Z
LAST-MODIFIED:20240318T184809Z
UID:16441-1835370000-1835372700@www.sportsusman.de
SUMMARY:REHASPORT ORTHOPÄDIE  Röhrnbach
DESCRIPTION:
URL:https://www.sportsusman.de/kursekalender/rehasport-orthopaedie/2028-02-28/
LOCATION:Sport & Entspannung Susman\, Goldener Steig 26\, Röhrnbach\, 94133\, Deutschland
ORGANIZER;CN="Sport & Entspannung Susman":MAILTO:susman@sportsusman.de
END:VEVENT
END:VCALENDAR