BEGIN:VCALENDAR
VERSION:2.0
PRODID:-//Sport&amp;Entspannung Susman - ECPv6.3.4//NONSGML v1.0//EN
CALSCALE:GREGORIAN
METHOD:PUBLISH
X-WR-CALNAME:Sport&amp;Entspannung Susman
X-ORIGINAL-URL:https://www.sportsusman.de
X-WR-CALDESC:Veranstaltungen für Sport&amp;Entspannung Susman
REFRESH-INTERVAL;VALUE=DURATION:PT1H
X-Robots-Tag:noindex
X-PUBLISHED-TTL:PT1H
BEGIN:VTIMEZONE
TZID:Europe/Paris
BEGIN:DAYLIGHT
TZOFFSETFROM:+0100
TZOFFSETTO:+0200
TZNAME:CEST
DTSTART:20270328T010000
END:DAYLIGHT
BEGIN:STANDARD
TZOFFSETFROM:+0200
TZOFFSETTO:+0100
TZNAME:CET
DTSTART:20271031T010000
END:STANDARD
END:VTIMEZONE
BEGIN:VEVENT
DTSTART;TZID=Europe/Paris:20270531T180000
DTEND;TZID=Europe/Paris:20270531T184500
DTSTAMP:20260424T184514
CREATED:20240318T184809Z
LAST-MODIFIED:20240318T184809Z
UID:16038-1811786400-1811789100@www.sportsusman.de
SUMMARY:REHASPORT ORTHOPÄDIE  Röhrnbach
DESCRIPTION:
URL:https://www.sportsusman.de/kursekalender/rehasport-orthopaedie/2027-05-31/
LOCATION:Sport & Entspannung Susman\, Goldener Steig 26\, Röhrnbach\, 94133\, Deutschland
ORGANIZER;CN="Sport & Entspannung Susman":MAILTO:susman@sportsusman.de
END:VEVENT
BEGIN:VEVENT
DTSTART;TZID=Europe/Paris:20270602T173000
DTEND;TZID=Europe/Paris:20270602T181500
DTSTAMP:20260424T184514
CREATED:20240709T065117Z
LAST-MODIFIED:20240709T065117Z
UID:16040-1811957400-1811960100@www.sportsusman.de
SUMMARY:Rehasport HERZ
DESCRIPTION:
URL:https://www.sportsusman.de/kursekalender/rehasport-herz/2027-06-02/
LOCATION:Josef Eder Halle Roehrnbach\, Rathausstraße 1\, Roehrnbach\, Bayern\, 94133\, Deutschland
ATTACH;FMTTYPE=application/pdf:https://www.sportsusman.de/wp-content/uploads/2024/07/Kopie-von-Rehasport-Herz-verschoben.pdf
ORGANIZER;CN="Sport & Entspannung Susman":MAILTO:susman@sportsusman.de
END:VEVENT
BEGIN:VEVENT
DTSTART;TZID=Europe/Paris:20270603T110000
DTEND;TZID=Europe/Paris:20270603T114500
DTSTAMP:20260424T184514
CREATED:20240318T191903Z
LAST-MODIFIED:20240318T191903Z
UID:16042-1812020400-1812023100@www.sportsusman.de
SUMMARY:REHASPORT Innere Medizin
DESCRIPTION:
URL:https://www.sportsusman.de/kursekalender/rehasport-innere-medizin/2027-06-03/
LOCATION:Sport & Entspannung Susman\, Goldener Steig 26\, Röhrnbach\, Bayern\, 94133\, Deutschland
ORGANIZER;CN="Sport & Entspannung Susman":MAILTO:susman@sportsusman.de
END:VEVENT
BEGIN:VEVENT
DTSTART;TZID=Europe/Paris:20270603T173000
DTEND;TZID=Europe/Paris:20270603T181500
DTSTAMP:20260424T184514
CREATED:20240318T182329Z
LAST-MODIFIED:20240318T182329Z
UID:16041-1812043800-1812046500@www.sportsusman.de
SUMMARY:REHASPORT WASSER   RÖHRNBACH
DESCRIPTION:
URL:https://www.sportsusman.de/kursekalender/rehasport-wasser-2/2027-06-03/
LOCATION:Hallenbad Grund- und Mittelschule Röhrnbach\, Froschau 10\, Röhrnbach\, 94133\, Deutschland
ATTACH;FMTTYPE=image/jpeg:https://www.sportsusman.de/wp-content/uploads/2022/01/rehasport_wasser.jpg
ORGANIZER;CN="Sport & Entspannung Susman":MAILTO:susman@sportsusman.de
END:VEVENT
BEGIN:VEVENT
DTSTART;TZID=Europe/Paris:20270604T163000
DTEND;TZID=Europe/Paris:20270604T171500
DTSTAMP:20260424T184514
CREATED:20240318T220814Z
LAST-MODIFIED:20240318T220814Z
UID:16044-1812126600-1812129300@www.sportsusman.de
SUMMARY:REHASPORT Orthopädie HAUZENBERG
DESCRIPTION:
URL:https://www.sportsusman.de/kursekalender/rehasport-orthopaedie-hauzenberg/2027-06-04/
LOCATION:Dreifachturnhalle Hauzenberg\, Eckmühlstraße 30\, Hauzenberg\, Bayern\, 94051\, Deutschland
ORGANIZER;CN="Sport & Entspannung Susman":MAILTO:susman@sportsusman.de
END:VEVENT
BEGIN:VEVENT
DTSTART;TZID=Europe/Paris:20270604T173000
DTEND;TZID=Europe/Paris:20270604T181500
DTSTAMP:20260424T184514
CREATED:20240318T220814Z
LAST-MODIFIED:20240318T220814Z
UID:16045-1812130200-1812132900@www.sportsusman.de
SUMMARY:REHASPORT Orthopädie HAUZENBERG
DESCRIPTION:
URL:https://www.sportsusman.de/kursekalender/rehasport-orthopaedie-hauzenberg/2027-06-04/
LOCATION:Dreifachturnhalle Hauzenberg\, Eckmühlstraße 30\, Hauzenberg\, Bayern\, 94051\, Deutschland
ORGANIZER;CN="Sport & Entspannung Susman":MAILTO:susman@sportsusman.de
END:VEVENT
BEGIN:VEVENT
DTSTART;TZID=Europe/Paris:20270607T100000
DTEND;TZID=Europe/Paris:20270607T104500
DTSTAMP:20260424T184514
CREATED:20240318T184809Z
LAST-MODIFIED:20240318T184809Z
UID:16046-1812362400-1812365100@www.sportsusman.de
SUMMARY:REHASPORT ORTHOPÄDIE  Röhrnbach
DESCRIPTION:
URL:https://www.sportsusman.de/kursekalender/rehasport-orthopaedie/2027-06-07/
LOCATION:Sport & Entspannung Susman\, Goldener Steig 26\, Röhrnbach\, 94133\, Deutschland
ORGANIZER;CN="Sport & Entspannung Susman":MAILTO:susman@sportsusman.de
END:VEVENT
BEGIN:VEVENT
DTSTART;TZID=Europe/Paris:20270607T100000
DTEND;TZID=Europe/Paris:20270607T104500
DTSTAMP:20260424T184514
CREATED:20240318T234657Z
LAST-MODIFIED:20240318T234657Z
UID:16049-1812362400-1812365100@www.sportsusman.de
SUMMARY:REHASPORT WASSER  Röhrnbach
DESCRIPTION:
URL:https://www.sportsusman.de/kursekalender/rehasport-wasser-roehrnbach/2027-06-07/
LOCATION:Hallenbad Grund- und Mittelschule Röhrnbach\, Froschau 10\, Röhrnbach\, 94133\, Deutschland
ATTACH;FMTTYPE=image/jpeg:https://www.sportsusman.de/wp-content/uploads/2022/01/rehasport_wasser.jpg
ORGANIZER;CN="Sport & Entspannung Susman":MAILTO:susman@sportsusman.de
END:VEVENT
BEGIN:VEVENT
DTSTART;TZID=Europe/Paris:20270607T160000
DTEND;TZID=Europe/Paris:20270607T164500
DTSTAMP:20260424T184514
CREATED:20240318T220814Z
LAST-MODIFIED:20240318T220814Z
UID:16043-1812384000-1812386700@www.sportsusman.de
SUMMARY:REHASPORT Orthopädie HAUZENBERG
DESCRIPTION:
URL:https://www.sportsusman.de/kursekalender/rehasport-orthopaedie-hauzenberg/2027-06-07/
LOCATION:Dreifachturnhalle Hauzenberg\, Eckmühlstraße 30\, Hauzenberg\, Bayern\, 94051\, Deutschland
ORGANIZER;CN="Sport & Entspannung Susman":MAILTO:susman@sportsusman.de
END:VEVENT
BEGIN:VEVENT
DTSTART;TZID=Europe/Paris:20270607T170000
DTEND;TZID=Europe/Paris:20270607T174500
DTSTAMP:20260424T184514
CREATED:20240318T184809Z
LAST-MODIFIED:20240318T184809Z
UID:16047-1812387600-1812390300@www.sportsusman.de
SUMMARY:REHASPORT ORTHOPÄDIE  Röhrnbach
DESCRIPTION:
URL:https://www.sportsusman.de/kursekalender/rehasport-orthopaedie/2027-06-07/
LOCATION:Sport & Entspannung Susman\, Goldener Steig 26\, Röhrnbach\, 94133\, Deutschland
ORGANIZER;CN="Sport & Entspannung Susman":MAILTO:susman@sportsusman.de
END:VEVENT
BEGIN:VEVENT
DTSTART;TZID=Europe/Paris:20270607T180000
DTEND;TZID=Europe/Paris:20270607T184500
DTSTAMP:20260424T184514
CREATED:20240318T184809Z
LAST-MODIFIED:20240318T184809Z
UID:16048-1812391200-1812393900@www.sportsusman.de
SUMMARY:REHASPORT ORTHOPÄDIE  Röhrnbach
DESCRIPTION:
URL:https://www.sportsusman.de/kursekalender/rehasport-orthopaedie/2027-06-07/
LOCATION:Sport & Entspannung Susman\, Goldener Steig 26\, Röhrnbach\, 94133\, Deutschland
ORGANIZER;CN="Sport & Entspannung Susman":MAILTO:susman@sportsusman.de
END:VEVENT
BEGIN:VEVENT
DTSTART;TZID=Europe/Paris:20270609T173000
DTEND;TZID=Europe/Paris:20270609T181500
DTSTAMP:20260424T184514
CREATED:20240709T065117Z
LAST-MODIFIED:20240709T065117Z
UID:16050-1812562200-1812564900@www.sportsusman.de
SUMMARY:Rehasport HERZ
DESCRIPTION:
URL:https://www.sportsusman.de/kursekalender/rehasport-herz/2027-06-09/
LOCATION:Josef Eder Halle Roehrnbach\, Rathausstraße 1\, Roehrnbach\, Bayern\, 94133\, Deutschland
ATTACH;FMTTYPE=application/pdf:https://www.sportsusman.de/wp-content/uploads/2024/07/Kopie-von-Rehasport-Herz-verschoben.pdf
ORGANIZER;CN="Sport & Entspannung Susman":MAILTO:susman@sportsusman.de
END:VEVENT
BEGIN:VEVENT
DTSTART;TZID=Europe/Paris:20270610T110000
DTEND;TZID=Europe/Paris:20270610T114500
DTSTAMP:20260424T184514
CREATED:20240318T191903Z
LAST-MODIFIED:20240318T191903Z
UID:16052-1812625200-1812627900@www.sportsusman.de
SUMMARY:REHASPORT Innere Medizin
DESCRIPTION:
URL:https://www.sportsusman.de/kursekalender/rehasport-innere-medizin/2027-06-10/
LOCATION:Sport & Entspannung Susman\, Goldener Steig 26\, Röhrnbach\, Bayern\, 94133\, Deutschland
ORGANIZER;CN="Sport & Entspannung Susman":MAILTO:susman@sportsusman.de
END:VEVENT
BEGIN:VEVENT
DTSTART;TZID=Europe/Paris:20270610T173000
DTEND;TZID=Europe/Paris:20270610T181500
DTSTAMP:20260424T184514
CREATED:20240318T182329Z
LAST-MODIFIED:20240318T182329Z
UID:16051-1812648600-1812651300@www.sportsusman.de
SUMMARY:REHASPORT WASSER   RÖHRNBACH
DESCRIPTION:
URL:https://www.sportsusman.de/kursekalender/rehasport-wasser-2/2027-06-10/
LOCATION:Hallenbad Grund- und Mittelschule Röhrnbach\, Froschau 10\, Röhrnbach\, 94133\, Deutschland
ATTACH;FMTTYPE=image/jpeg:https://www.sportsusman.de/wp-content/uploads/2022/01/rehasport_wasser.jpg
ORGANIZER;CN="Sport & Entspannung Susman":MAILTO:susman@sportsusman.de
END:VEVENT
BEGIN:VEVENT
DTSTART;TZID=Europe/Paris:20270611T163000
DTEND;TZID=Europe/Paris:20270611T171500
DTSTAMP:20260424T184514
CREATED:20240318T220814Z
LAST-MODIFIED:20240318T220814Z
UID:16057-1812731400-1812734100@www.sportsusman.de
SUMMARY:REHASPORT Orthopädie HAUZENBERG
DESCRIPTION:
URL:https://www.sportsusman.de/kursekalender/rehasport-orthopaedie-hauzenberg/2027-06-11/
LOCATION:Dreifachturnhalle Hauzenberg\, Eckmühlstraße 30\, Hauzenberg\, Bayern\, 94051\, Deutschland
ORGANIZER;CN="Sport & Entspannung Susman":MAILTO:susman@sportsusman.de
END:VEVENT
BEGIN:VEVENT
DTSTART;TZID=Europe/Paris:20270611T173000
DTEND;TZID=Europe/Paris:20270611T181500
DTSTAMP:20260424T184514
CREATED:20240318T220814Z
LAST-MODIFIED:20240318T220814Z
UID:16058-1812735000-1812737700@www.sportsusman.de
SUMMARY:REHASPORT Orthopädie HAUZENBERG
DESCRIPTION:
URL:https://www.sportsusman.de/kursekalender/rehasport-orthopaedie-hauzenberg/2027-06-11/
LOCATION:Dreifachturnhalle Hauzenberg\, Eckmühlstraße 30\, Hauzenberg\, Bayern\, 94051\, Deutschland
ORGANIZER;CN="Sport & Entspannung Susman":MAILTO:susman@sportsusman.de
END:VEVENT
BEGIN:VEVENT
DTSTART;TZID=Europe/Paris:20270614T100000
DTEND;TZID=Europe/Paris:20270614T104500
DTSTAMP:20260424T184514
CREATED:20240318T184809Z
LAST-MODIFIED:20240318T184809Z
UID:16053-1812967200-1812969900@www.sportsusman.de
SUMMARY:REHASPORT ORTHOPÄDIE  Röhrnbach
DESCRIPTION:
URL:https://www.sportsusman.de/kursekalender/rehasport-orthopaedie/2027-06-14/
LOCATION:Sport & Entspannung Susman\, Goldener Steig 26\, Röhrnbach\, 94133\, Deutschland
ORGANIZER;CN="Sport & Entspannung Susman":MAILTO:susman@sportsusman.de
END:VEVENT
BEGIN:VEVENT
DTSTART;TZID=Europe/Paris:20270614T100000
DTEND;TZID=Europe/Paris:20270614T104500
DTSTAMP:20260424T184514
CREATED:20240318T234657Z
LAST-MODIFIED:20240318T234657Z
UID:16059-1812967200-1812969900@www.sportsusman.de
SUMMARY:REHASPORT WASSER  Röhrnbach
DESCRIPTION:
URL:https://www.sportsusman.de/kursekalender/rehasport-wasser-roehrnbach/2027-06-14/
LOCATION:Hallenbad Grund- und Mittelschule Röhrnbach\, Froschau 10\, Röhrnbach\, 94133\, Deutschland
ATTACH;FMTTYPE=image/jpeg:https://www.sportsusman.de/wp-content/uploads/2022/01/rehasport_wasser.jpg
ORGANIZER;CN="Sport & Entspannung Susman":MAILTO:susman@sportsusman.de
END:VEVENT
BEGIN:VEVENT
DTSTART;TZID=Europe/Paris:20270614T160000
DTEND;TZID=Europe/Paris:20270614T164500
DTSTAMP:20260424T184514
CREATED:20240318T220814Z
LAST-MODIFIED:20240318T220814Z
UID:16056-1812988800-1812991500@www.sportsusman.de
SUMMARY:REHASPORT Orthopädie HAUZENBERG
DESCRIPTION:
URL:https://www.sportsusman.de/kursekalender/rehasport-orthopaedie-hauzenberg/2027-06-14/
LOCATION:Dreifachturnhalle Hauzenberg\, Eckmühlstraße 30\, Hauzenberg\, Bayern\, 94051\, Deutschland
ORGANIZER;CN="Sport & Entspannung Susman":MAILTO:susman@sportsusman.de
END:VEVENT
BEGIN:VEVENT
DTSTART;TZID=Europe/Paris:20270614T170000
DTEND;TZID=Europe/Paris:20270614T174500
DTSTAMP:20260424T184514
CREATED:20240318T184809Z
LAST-MODIFIED:20240318T184809Z
UID:16054-1812992400-1812995100@www.sportsusman.de
SUMMARY:REHASPORT ORTHOPÄDIE  Röhrnbach
DESCRIPTION:
URL:https://www.sportsusman.de/kursekalender/rehasport-orthopaedie/2027-06-14/
LOCATION:Sport & Entspannung Susman\, Goldener Steig 26\, Röhrnbach\, 94133\, Deutschland
ORGANIZER;CN="Sport & Entspannung Susman":MAILTO:susman@sportsusman.de
END:VEVENT
BEGIN:VEVENT
DTSTART;TZID=Europe/Paris:20270614T180000
DTEND;TZID=Europe/Paris:20270614T184500
DTSTAMP:20260424T184514
CREATED:20240318T184809Z
LAST-MODIFIED:20240318T184809Z
UID:16055-1812996000-1812998700@www.sportsusman.de
SUMMARY:REHASPORT ORTHOPÄDIE  Röhrnbach
DESCRIPTION:
URL:https://www.sportsusman.de/kursekalender/rehasport-orthopaedie/2027-06-14/
LOCATION:Sport & Entspannung Susman\, Goldener Steig 26\, Röhrnbach\, 94133\, Deutschland
ORGANIZER;CN="Sport & Entspannung Susman":MAILTO:susman@sportsusman.de
END:VEVENT
BEGIN:VEVENT
DTSTART;TZID=Europe/Paris:20270616T173000
DTEND;TZID=Europe/Paris:20270616T181500
DTSTAMP:20260424T184514
CREATED:20240709T065117Z
LAST-MODIFIED:20240709T065117Z
UID:16060-1813167000-1813169700@www.sportsusman.de
SUMMARY:Rehasport HERZ
DESCRIPTION:
URL:https://www.sportsusman.de/kursekalender/rehasport-herz/2027-06-16/
LOCATION:Josef Eder Halle Roehrnbach\, Rathausstraße 1\, Roehrnbach\, Bayern\, 94133\, Deutschland
ATTACH;FMTTYPE=application/pdf:https://www.sportsusman.de/wp-content/uploads/2024/07/Kopie-von-Rehasport-Herz-verschoben.pdf
ORGANIZER;CN="Sport & Entspannung Susman":MAILTO:susman@sportsusman.de
END:VEVENT
BEGIN:VEVENT
DTSTART;TZID=Europe/Paris:20270617T110000
DTEND;TZID=Europe/Paris:20270617T114500
DTSTAMP:20260424T184514
CREATED:20240318T191903Z
LAST-MODIFIED:20240318T191903Z
UID:16062-1813230000-1813232700@www.sportsusman.de
SUMMARY:REHASPORT Innere Medizin
DESCRIPTION:
URL:https://www.sportsusman.de/kursekalender/rehasport-innere-medizin/2027-06-17/
LOCATION:Sport & Entspannung Susman\, Goldener Steig 26\, Röhrnbach\, Bayern\, 94133\, Deutschland
ORGANIZER;CN="Sport & Entspannung Susman":MAILTO:susman@sportsusman.de
END:VEVENT
BEGIN:VEVENT
DTSTART;TZID=Europe/Paris:20270617T173000
DTEND;TZID=Europe/Paris:20270617T181500
DTSTAMP:20260424T184514
CREATED:20240318T182329Z
LAST-MODIFIED:20240318T182329Z
UID:16061-1813253400-1813256100@www.sportsusman.de
SUMMARY:REHASPORT WASSER   RÖHRNBACH
DESCRIPTION:
URL:https://www.sportsusman.de/kursekalender/rehasport-wasser-2/2027-06-17/
LOCATION:Hallenbad Grund- und Mittelschule Röhrnbach\, Froschau 10\, Röhrnbach\, 94133\, Deutschland
ATTACH;FMTTYPE=image/jpeg:https://www.sportsusman.de/wp-content/uploads/2022/01/rehasport_wasser.jpg
ORGANIZER;CN="Sport & Entspannung Susman":MAILTO:susman@sportsusman.de
END:VEVENT
BEGIN:VEVENT
DTSTART;TZID=Europe/Paris:20270618T163000
DTEND;TZID=Europe/Paris:20270618T171500
DTSTAMP:20260424T184514
CREATED:20240318T220814Z
LAST-MODIFIED:20240318T220814Z
UID:16067-1813336200-1813338900@www.sportsusman.de
SUMMARY:REHASPORT Orthopädie HAUZENBERG
DESCRIPTION:
URL:https://www.sportsusman.de/kursekalender/rehasport-orthopaedie-hauzenberg/2027-06-18/
LOCATION:Dreifachturnhalle Hauzenberg\, Eckmühlstraße 30\, Hauzenberg\, Bayern\, 94051\, Deutschland
ORGANIZER;CN="Sport & Entspannung Susman":MAILTO:susman@sportsusman.de
END:VEVENT
BEGIN:VEVENT
DTSTART;TZID=Europe/Paris:20270618T173000
DTEND;TZID=Europe/Paris:20270618T181500
DTSTAMP:20260424T184514
CREATED:20240318T220814Z
LAST-MODIFIED:20240318T220814Z
UID:16068-1813339800-1813342500@www.sportsusman.de
SUMMARY:REHASPORT Orthopädie HAUZENBERG
DESCRIPTION:
URL:https://www.sportsusman.de/kursekalender/rehasport-orthopaedie-hauzenberg/2027-06-18/
LOCATION:Dreifachturnhalle Hauzenberg\, Eckmühlstraße 30\, Hauzenberg\, Bayern\, 94051\, Deutschland
ORGANIZER;CN="Sport & Entspannung Susman":MAILTO:susman@sportsusman.de
END:VEVENT
BEGIN:VEVENT
DTSTART;TZID=Europe/Paris:20270621T100000
DTEND;TZID=Europe/Paris:20270621T104500
DTSTAMP:20260424T184514
CREATED:20240318T184809Z
LAST-MODIFIED:20240318T184809Z
UID:16063-1813572000-1813574700@www.sportsusman.de
SUMMARY:REHASPORT ORTHOPÄDIE  Röhrnbach
DESCRIPTION:
URL:https://www.sportsusman.de/kursekalender/rehasport-orthopaedie/2027-06-21/
LOCATION:Sport & Entspannung Susman\, Goldener Steig 26\, Röhrnbach\, 94133\, Deutschland
ORGANIZER;CN="Sport & Entspannung Susman":MAILTO:susman@sportsusman.de
END:VEVENT
BEGIN:VEVENT
DTSTART;TZID=Europe/Paris:20270621T100000
DTEND;TZID=Europe/Paris:20270621T104500
DTSTAMP:20260424T184514
CREATED:20240318T234657Z
LAST-MODIFIED:20240318T234657Z
UID:16069-1813572000-1813574700@www.sportsusman.de
SUMMARY:REHASPORT WASSER  Röhrnbach
DESCRIPTION:
URL:https://www.sportsusman.de/kursekalender/rehasport-wasser-roehrnbach/2027-06-21/
LOCATION:Hallenbad Grund- und Mittelschule Röhrnbach\, Froschau 10\, Röhrnbach\, 94133\, Deutschland
ATTACH;FMTTYPE=image/jpeg:https://www.sportsusman.de/wp-content/uploads/2022/01/rehasport_wasser.jpg
ORGANIZER;CN="Sport & Entspannung Susman":MAILTO:susman@sportsusman.de
END:VEVENT
BEGIN:VEVENT
DTSTART;TZID=Europe/Paris:20270621T160000
DTEND;TZID=Europe/Paris:20270621T164500
DTSTAMP:20260424T184514
CREATED:20240318T220814Z
LAST-MODIFIED:20240318T220814Z
UID:16066-1813593600-1813596300@www.sportsusman.de
SUMMARY:REHASPORT Orthopädie HAUZENBERG
DESCRIPTION:
URL:https://www.sportsusman.de/kursekalender/rehasport-orthopaedie-hauzenberg/2027-06-21/
LOCATION:Dreifachturnhalle Hauzenberg\, Eckmühlstraße 30\, Hauzenberg\, Bayern\, 94051\, Deutschland
ORGANIZER;CN="Sport & Entspannung Susman":MAILTO:susman@sportsusman.de
END:VEVENT
BEGIN:VEVENT
DTSTART;TZID=Europe/Paris:20270621T170000
DTEND;TZID=Europe/Paris:20270621T174500
DTSTAMP:20260424T184514
CREATED:20240318T184809Z
LAST-MODIFIED:20240318T184809Z
UID:16064-1813597200-1813599900@www.sportsusman.de
SUMMARY:REHASPORT ORTHOPÄDIE  Röhrnbach
DESCRIPTION:
URL:https://www.sportsusman.de/kursekalender/rehasport-orthopaedie/2027-06-21/
LOCATION:Sport & Entspannung Susman\, Goldener Steig 26\, Röhrnbach\, 94133\, Deutschland
ORGANIZER;CN="Sport & Entspannung Susman":MAILTO:susman@sportsusman.de
END:VEVENT
END:VCALENDAR