BEGIN:VCALENDAR
VERSION:2.0
PRODID:-//Sport&amp;Entspannung Susman - ECPv6.3.4//NONSGML v1.0//EN
CALSCALE:GREGORIAN
METHOD:PUBLISH
X-ORIGINAL-URL:https://www.sportsusman.de
X-WR-CALDESC:Veranstaltungen für Sport&amp;Entspannung Susman
REFRESH-INTERVAL;VALUE=DURATION:PT1H
X-Robots-Tag:noindex
X-PUBLISHED-TTL:PT1H
BEGIN:VTIMEZONE
TZID:Europe/Paris
BEGIN:DAYLIGHT
TZOFFSETFROM:+0100
TZOFFSETTO:+0200
TZNAME:CEST
DTSTART:20280326T010000
END:DAYLIGHT
BEGIN:STANDARD
TZOFFSETFROM:+0200
TZOFFSETTO:+0100
TZNAME:CET
DTSTART:20281029T010000
END:STANDARD
END:VTIMEZONE
BEGIN:VEVENT
DTSTART;TZID=Europe/Paris:20280117T180000
DTEND;TZID=Europe/Paris:20280117T184500
DTSTAMP:20260425T233522
CREATED:20240318T184809Z
LAST-MODIFIED:20240318T184809Z
UID:16366-1831744800-1831747500@www.sportsusman.de
SUMMARY:REHASPORT ORTHOPÄDIE  Röhrnbach
DESCRIPTION:
URL:https://www.sportsusman.de/kursekalender/rehasport-orthopaedie/2028-01-17/
LOCATION:Sport & Entspannung Susman\, Goldener Steig 26\, Röhrnbach\, 94133\, Deutschland
ORGANIZER;CN="Sport & Entspannung Susman":MAILTO:susman@sportsusman.de
END:VEVENT
BEGIN:VEVENT
DTSTART;TZID=Europe/Paris:20280119T173000
DTEND;TZID=Europe/Paris:20280119T181500
DTSTAMP:20260425T233522
CREATED:20240709T065117Z
LAST-MODIFIED:20240709T065117Z
UID:16371-1831915800-1831918500@www.sportsusman.de
SUMMARY:Rehasport HERZ
DESCRIPTION:
URL:https://www.sportsusman.de/kursekalender/rehasport-herz/2028-01-19/
LOCATION:Josef Eder Halle Roehrnbach\, Rathausstraße 1\, Roehrnbach\, Bayern\, 94133\, Deutschland
ATTACH;FMTTYPE=application/pdf:https://www.sportsusman.de/wp-content/uploads/2024/07/Kopie-von-Rehasport-Herz-verschoben.pdf
ORGANIZER;CN="Sport & Entspannung Susman":MAILTO:susman@sportsusman.de
END:VEVENT
BEGIN:VEVENT
DTSTART;TZID=Europe/Paris:20280120T110000
DTEND;TZID=Europe/Paris:20280120T114500
DTSTAMP:20260425T233522
CREATED:20240318T191903Z
LAST-MODIFIED:20240318T191903Z
UID:16373-1831978800-1831981500@www.sportsusman.de
SUMMARY:REHASPORT Innere Medizin
DESCRIPTION:
URL:https://www.sportsusman.de/kursekalender/rehasport-innere-medizin/2028-01-20/
LOCATION:Sport & Entspannung Susman\, Goldener Steig 26\, Röhrnbach\, Bayern\, 94133\, Deutschland
ORGANIZER;CN="Sport & Entspannung Susman":MAILTO:susman@sportsusman.de
END:VEVENT
BEGIN:VEVENT
DTSTART;TZID=Europe/Paris:20280120T173000
DTEND;TZID=Europe/Paris:20280120T181500
DTSTAMP:20260425T233522
CREATED:20240318T182329Z
LAST-MODIFIED:20240318T182329Z
UID:16372-1832002200-1832004900@www.sportsusman.de
SUMMARY:REHASPORT WASSER   RÖHRNBACH
DESCRIPTION:
URL:https://www.sportsusman.de/kursekalender/rehasport-wasser-2/2028-01-20/
LOCATION:Hallenbad Grund- und Mittelschule Röhrnbach\, Froschau 10\, Röhrnbach\, 94133\, Deutschland
ATTACH;FMTTYPE=image/jpeg:https://www.sportsusman.de/wp-content/uploads/2022/01/rehasport_wasser.jpg
ORGANIZER;CN="Sport & Entspannung Susman":MAILTO:susman@sportsusman.de
END:VEVENT
BEGIN:VEVENT
DTSTART;TZID=Europe/Paris:20280121T163000
DTEND;TZID=Europe/Paris:20280121T171500
DTSTAMP:20260425T233522
CREATED:20240318T220814Z
LAST-MODIFIED:20240318T220814Z
UID:16378-1832085000-1832087700@www.sportsusman.de
SUMMARY:REHASPORT Orthopädie HAUZENBERG
DESCRIPTION:
URL:https://www.sportsusman.de/kursekalender/rehasport-orthopaedie-hauzenberg/2028-01-21/
LOCATION:Dreifachturnhalle Hauzenberg\, Eckmühlstraße 30\, Hauzenberg\, Bayern\, 94051\, Deutschland
ORGANIZER;CN="Sport & Entspannung Susman":MAILTO:susman@sportsusman.de
END:VEVENT
BEGIN:VEVENT
DTSTART;TZID=Europe/Paris:20280121T173000
DTEND;TZID=Europe/Paris:20280121T181500
DTSTAMP:20260425T233522
CREATED:20240318T220814Z
LAST-MODIFIED:20240318T220814Z
UID:16379-1832088600-1832091300@www.sportsusman.de
SUMMARY:REHASPORT Orthopädie HAUZENBERG
DESCRIPTION:
URL:https://www.sportsusman.de/kursekalender/rehasport-orthopaedie-hauzenberg/2028-01-21/
LOCATION:Dreifachturnhalle Hauzenberg\, Eckmühlstraße 30\, Hauzenberg\, Bayern\, 94051\, Deutschland
ORGANIZER;CN="Sport & Entspannung Susman":MAILTO:susman@sportsusman.de
END:VEVENT
BEGIN:VEVENT
DTSTART;TZID=Europe/Paris:20280124T100000
DTEND;TZID=Europe/Paris:20280124T104500
DTSTAMP:20260425T233522
CREATED:20240318T184809Z
LAST-MODIFIED:20240318T184809Z
UID:16374-1832320800-1832323500@www.sportsusman.de
SUMMARY:REHASPORT ORTHOPÄDIE  Röhrnbach
DESCRIPTION:
URL:https://www.sportsusman.de/kursekalender/rehasport-orthopaedie/2028-01-24/
LOCATION:Sport & Entspannung Susman\, Goldener Steig 26\, Röhrnbach\, 94133\, Deutschland
ORGANIZER;CN="Sport & Entspannung Susman":MAILTO:susman@sportsusman.de
END:VEVENT
BEGIN:VEVENT
DTSTART;TZID=Europe/Paris:20280124T100000
DTEND;TZID=Europe/Paris:20280124T104500
DTSTAMP:20260425T233522
CREATED:20240318T234657Z
LAST-MODIFIED:20240318T234657Z
UID:16380-1832320800-1832323500@www.sportsusman.de
SUMMARY:REHASPORT WASSER  Röhrnbach
DESCRIPTION:
URL:https://www.sportsusman.de/kursekalender/rehasport-wasser-roehrnbach/2028-01-24/
LOCATION:Hallenbad Grund- und Mittelschule Röhrnbach\, Froschau 10\, Röhrnbach\, 94133\, Deutschland
ATTACH;FMTTYPE=image/jpeg:https://www.sportsusman.de/wp-content/uploads/2022/01/rehasport_wasser.jpg
ORGANIZER;CN="Sport & Entspannung Susman":MAILTO:susman@sportsusman.de
END:VEVENT
BEGIN:VEVENT
DTSTART;TZID=Europe/Paris:20280124T160000
DTEND;TZID=Europe/Paris:20280124T164500
DTSTAMP:20260425T233522
CREATED:20240318T220814Z
LAST-MODIFIED:20240318T220814Z
UID:16377-1832342400-1832345100@www.sportsusman.de
SUMMARY:REHASPORT Orthopädie HAUZENBERG
DESCRIPTION:
URL:https://www.sportsusman.de/kursekalender/rehasport-orthopaedie-hauzenberg/2028-01-24/
LOCATION:Dreifachturnhalle Hauzenberg\, Eckmühlstraße 30\, Hauzenberg\, Bayern\, 94051\, Deutschland
ORGANIZER;CN="Sport & Entspannung Susman":MAILTO:susman@sportsusman.de
END:VEVENT
BEGIN:VEVENT
DTSTART;TZID=Europe/Paris:20280124T170000
DTEND;TZID=Europe/Paris:20280124T174500
DTSTAMP:20260425T233522
CREATED:20240318T184809Z
LAST-MODIFIED:20240318T184809Z
UID:16375-1832346000-1832348700@www.sportsusman.de
SUMMARY:REHASPORT ORTHOPÄDIE  Röhrnbach
DESCRIPTION:
URL:https://www.sportsusman.de/kursekalender/rehasport-orthopaedie/2028-01-24/
LOCATION:Sport & Entspannung Susman\, Goldener Steig 26\, Röhrnbach\, 94133\, Deutschland
ORGANIZER;CN="Sport & Entspannung Susman":MAILTO:susman@sportsusman.de
END:VEVENT
BEGIN:VEVENT
DTSTART;TZID=Europe/Paris:20280124T180000
DTEND;TZID=Europe/Paris:20280124T184500
DTSTAMP:20260425T233522
CREATED:20240318T184809Z
LAST-MODIFIED:20240318T184809Z
UID:16376-1832349600-1832352300@www.sportsusman.de
SUMMARY:REHASPORT ORTHOPÄDIE  Röhrnbach
DESCRIPTION:
URL:https://www.sportsusman.de/kursekalender/rehasport-orthopaedie/2028-01-24/
LOCATION:Sport & Entspannung Susman\, Goldener Steig 26\, Röhrnbach\, 94133\, Deutschland
ORGANIZER;CN="Sport & Entspannung Susman":MAILTO:susman@sportsusman.de
END:VEVENT
BEGIN:VEVENT
DTSTART;TZID=Europe/Paris:20280126T173000
DTEND;TZID=Europe/Paris:20280126T181500
DTSTAMP:20260425T233522
CREATED:20240709T065117Z
LAST-MODIFIED:20240709T065117Z
UID:16381-1832520600-1832523300@www.sportsusman.de
SUMMARY:Rehasport HERZ
DESCRIPTION:
URL:https://www.sportsusman.de/kursekalender/rehasport-herz/2028-01-26/
LOCATION:Josef Eder Halle Roehrnbach\, Rathausstraße 1\, Roehrnbach\, Bayern\, 94133\, Deutschland
ATTACH;FMTTYPE=application/pdf:https://www.sportsusman.de/wp-content/uploads/2024/07/Kopie-von-Rehasport-Herz-verschoben.pdf
ORGANIZER;CN="Sport & Entspannung Susman":MAILTO:susman@sportsusman.de
END:VEVENT
BEGIN:VEVENT
DTSTART;TZID=Europe/Paris:20280127T110000
DTEND;TZID=Europe/Paris:20280127T114500
DTSTAMP:20260425T233522
CREATED:20240318T191903Z
LAST-MODIFIED:20240318T191903Z
UID:16383-1832583600-1832586300@www.sportsusman.de
SUMMARY:REHASPORT Innere Medizin
DESCRIPTION:
URL:https://www.sportsusman.de/kursekalender/rehasport-innere-medizin/2028-01-27/
LOCATION:Sport & Entspannung Susman\, Goldener Steig 26\, Röhrnbach\, Bayern\, 94133\, Deutschland
ORGANIZER;CN="Sport & Entspannung Susman":MAILTO:susman@sportsusman.de
END:VEVENT
BEGIN:VEVENT
DTSTART;TZID=Europe/Paris:20280127T173000
DTEND;TZID=Europe/Paris:20280127T181500
DTSTAMP:20260425T233522
CREATED:20240318T182329Z
LAST-MODIFIED:20240318T182329Z
UID:16382-1832607000-1832609700@www.sportsusman.de
SUMMARY:REHASPORT WASSER   RÖHRNBACH
DESCRIPTION:
URL:https://www.sportsusman.de/kursekalender/rehasport-wasser-2/2028-01-27/
LOCATION:Hallenbad Grund- und Mittelschule Röhrnbach\, Froschau 10\, Röhrnbach\, 94133\, Deutschland
ATTACH;FMTTYPE=image/jpeg:https://www.sportsusman.de/wp-content/uploads/2022/01/rehasport_wasser.jpg
ORGANIZER;CN="Sport & Entspannung Susman":MAILTO:susman@sportsusman.de
END:VEVENT
BEGIN:VEVENT
DTSTART;TZID=Europe/Paris:20280128T163000
DTEND;TZID=Europe/Paris:20280128T171500
DTSTAMP:20260425T233522
CREATED:20240318T220814Z
LAST-MODIFIED:20240318T220814Z
UID:16388-1832689800-1832692500@www.sportsusman.de
SUMMARY:REHASPORT Orthopädie HAUZENBERG
DESCRIPTION:
URL:https://www.sportsusman.de/kursekalender/rehasport-orthopaedie-hauzenberg/2028-01-28/
LOCATION:Dreifachturnhalle Hauzenberg\, Eckmühlstraße 30\, Hauzenberg\, Bayern\, 94051\, Deutschland
ORGANIZER;CN="Sport & Entspannung Susman":MAILTO:susman@sportsusman.de
END:VEVENT
BEGIN:VEVENT
DTSTART;TZID=Europe/Paris:20280128T173000
DTEND;TZID=Europe/Paris:20280128T181500
DTSTAMP:20260425T233522
CREATED:20240318T220814Z
LAST-MODIFIED:20240318T220814Z
UID:16389-1832693400-1832696100@www.sportsusman.de
SUMMARY:REHASPORT Orthopädie HAUZENBERG
DESCRIPTION:
URL:https://www.sportsusman.de/kursekalender/rehasport-orthopaedie-hauzenberg/2028-01-28/
LOCATION:Dreifachturnhalle Hauzenberg\, Eckmühlstraße 30\, Hauzenberg\, Bayern\, 94051\, Deutschland
ORGANIZER;CN="Sport & Entspannung Susman":MAILTO:susman@sportsusman.de
END:VEVENT
BEGIN:VEVENT
DTSTART;TZID=Europe/Paris:20280131T100000
DTEND;TZID=Europe/Paris:20280131T104500
DTSTAMP:20260425T233522
CREATED:20240318T184809Z
LAST-MODIFIED:20240318T184809Z
UID:16384-1832925600-1832928300@www.sportsusman.de
SUMMARY:REHASPORT ORTHOPÄDIE  Röhrnbach
DESCRIPTION:
URL:https://www.sportsusman.de/kursekalender/rehasport-orthopaedie/2028-01-31/
LOCATION:Sport & Entspannung Susman\, Goldener Steig 26\, Röhrnbach\, 94133\, Deutschland
ORGANIZER;CN="Sport & Entspannung Susman":MAILTO:susman@sportsusman.de
END:VEVENT
BEGIN:VEVENT
DTSTART;TZID=Europe/Paris:20280131T100000
DTEND;TZID=Europe/Paris:20280131T104500
DTSTAMP:20260425T233522
CREATED:20240318T234657Z
LAST-MODIFIED:20240318T234657Z
UID:16390-1832925600-1832928300@www.sportsusman.de
SUMMARY:REHASPORT WASSER  Röhrnbach
DESCRIPTION:
URL:https://www.sportsusman.de/kursekalender/rehasport-wasser-roehrnbach/2028-01-31/
LOCATION:Hallenbad Grund- und Mittelschule Röhrnbach\, Froschau 10\, Röhrnbach\, 94133\, Deutschland
ATTACH;FMTTYPE=image/jpeg:https://www.sportsusman.de/wp-content/uploads/2022/01/rehasport_wasser.jpg
ORGANIZER;CN="Sport & Entspannung Susman":MAILTO:susman@sportsusman.de
END:VEVENT
BEGIN:VEVENT
DTSTART;TZID=Europe/Paris:20280131T160000
DTEND;TZID=Europe/Paris:20280131T164500
DTSTAMP:20260425T233522
CREATED:20240318T220814Z
LAST-MODIFIED:20240318T220814Z
UID:16387-1832947200-1832949900@www.sportsusman.de
SUMMARY:REHASPORT Orthopädie HAUZENBERG
DESCRIPTION:
URL:https://www.sportsusman.de/kursekalender/rehasport-orthopaedie-hauzenberg/2028-01-31/
LOCATION:Dreifachturnhalle Hauzenberg\, Eckmühlstraße 30\, Hauzenberg\, Bayern\, 94051\, Deutschland
ORGANIZER;CN="Sport & Entspannung Susman":MAILTO:susman@sportsusman.de
END:VEVENT
BEGIN:VEVENT
DTSTART;TZID=Europe/Paris:20280131T170000
DTEND;TZID=Europe/Paris:20280131T174500
DTSTAMP:20260425T233522
CREATED:20240318T184809Z
LAST-MODIFIED:20240318T184809Z
UID:16385-1832950800-1832953500@www.sportsusman.de
SUMMARY:REHASPORT ORTHOPÄDIE  Röhrnbach
DESCRIPTION:
URL:https://www.sportsusman.de/kursekalender/rehasport-orthopaedie/2028-01-31/
LOCATION:Sport & Entspannung Susman\, Goldener Steig 26\, Röhrnbach\, 94133\, Deutschland
ORGANIZER;CN="Sport & Entspannung Susman":MAILTO:susman@sportsusman.de
END:VEVENT
BEGIN:VEVENT
DTSTART;TZID=Europe/Paris:20280131T180000
DTEND;TZID=Europe/Paris:20280131T184500
DTSTAMP:20260425T233522
CREATED:20240318T184809Z
LAST-MODIFIED:20240318T184809Z
UID:16386-1832954400-1832957100@www.sportsusman.de
SUMMARY:REHASPORT ORTHOPÄDIE  Röhrnbach
DESCRIPTION:
URL:https://www.sportsusman.de/kursekalender/rehasport-orthopaedie/2028-01-31/
LOCATION:Sport & Entspannung Susman\, Goldener Steig 26\, Röhrnbach\, 94133\, Deutschland
ORGANIZER;CN="Sport & Entspannung Susman":MAILTO:susman@sportsusman.de
END:VEVENT
BEGIN:VEVENT
DTSTART;TZID=Europe/Paris:20280202T173000
DTEND;TZID=Europe/Paris:20280202T181500
DTSTAMP:20260425T233522
CREATED:20240709T065117Z
LAST-MODIFIED:20240709T065117Z
UID:16391-1833125400-1833128100@www.sportsusman.de
SUMMARY:Rehasport HERZ
DESCRIPTION:
URL:https://www.sportsusman.de/kursekalender/rehasport-herz/2028-02-02/
LOCATION:Josef Eder Halle Roehrnbach\, Rathausstraße 1\, Roehrnbach\, Bayern\, 94133\, Deutschland
ATTACH;FMTTYPE=application/pdf:https://www.sportsusman.de/wp-content/uploads/2024/07/Kopie-von-Rehasport-Herz-verschoben.pdf
ORGANIZER;CN="Sport & Entspannung Susman":MAILTO:susman@sportsusman.de
END:VEVENT
BEGIN:VEVENT
DTSTART;TZID=Europe/Paris:20280203T110000
DTEND;TZID=Europe/Paris:20280203T114500
DTSTAMP:20260425T233522
CREATED:20240318T191903Z
LAST-MODIFIED:20240318T191903Z
UID:16393-1833188400-1833191100@www.sportsusman.de
SUMMARY:REHASPORT Innere Medizin
DESCRIPTION:
URL:https://www.sportsusman.de/kursekalender/rehasport-innere-medizin/2028-02-03/
LOCATION:Sport & Entspannung Susman\, Goldener Steig 26\, Röhrnbach\, Bayern\, 94133\, Deutschland
ORGANIZER;CN="Sport & Entspannung Susman":MAILTO:susman@sportsusman.de
END:VEVENT
BEGIN:VEVENT
DTSTART;TZID=Europe/Paris:20280203T173000
DTEND;TZID=Europe/Paris:20280203T181500
DTSTAMP:20260425T233522
CREATED:20240318T182329Z
LAST-MODIFIED:20240318T182329Z
UID:16392-1833211800-1833214500@www.sportsusman.de
SUMMARY:REHASPORT WASSER   RÖHRNBACH
DESCRIPTION:
URL:https://www.sportsusman.de/kursekalender/rehasport-wasser-2/2028-02-03/
LOCATION:Hallenbad Grund- und Mittelschule Röhrnbach\, Froschau 10\, Röhrnbach\, 94133\, Deutschland
ATTACH;FMTTYPE=image/jpeg:https://www.sportsusman.de/wp-content/uploads/2022/01/rehasport_wasser.jpg
ORGANIZER;CN="Sport & Entspannung Susman":MAILTO:susman@sportsusman.de
END:VEVENT
BEGIN:VEVENT
DTSTART;TZID=Europe/Paris:20280204T163000
DTEND;TZID=Europe/Paris:20280204T171500
DTSTAMP:20260425T233522
CREATED:20240318T220814Z
LAST-MODIFIED:20240318T220814Z
UID:16398-1833294600-1833297300@www.sportsusman.de
SUMMARY:REHASPORT Orthopädie HAUZENBERG
DESCRIPTION:
URL:https://www.sportsusman.de/kursekalender/rehasport-orthopaedie-hauzenberg/2028-02-04/
LOCATION:Dreifachturnhalle Hauzenberg\, Eckmühlstraße 30\, Hauzenberg\, Bayern\, 94051\, Deutschland
ORGANIZER;CN="Sport & Entspannung Susman":MAILTO:susman@sportsusman.de
END:VEVENT
BEGIN:VEVENT
DTSTART;TZID=Europe/Paris:20280204T173000
DTEND;TZID=Europe/Paris:20280204T181500
DTSTAMP:20260425T233522
CREATED:20240318T220814Z
LAST-MODIFIED:20240318T220814Z
UID:16399-1833298200-1833300900@www.sportsusman.de
SUMMARY:REHASPORT Orthopädie HAUZENBERG
DESCRIPTION:
URL:https://www.sportsusman.de/kursekalender/rehasport-orthopaedie-hauzenberg/2028-02-04/
LOCATION:Dreifachturnhalle Hauzenberg\, Eckmühlstraße 30\, Hauzenberg\, Bayern\, 94051\, Deutschland
ORGANIZER;CN="Sport & Entspannung Susman":MAILTO:susman@sportsusman.de
END:VEVENT
BEGIN:VEVENT
DTSTART;TZID=Europe/Paris:20280207T100000
DTEND;TZID=Europe/Paris:20280207T104500
DTSTAMP:20260425T233522
CREATED:20240318T184809Z
LAST-MODIFIED:20240318T184809Z
UID:16394-1833530400-1833533100@www.sportsusman.de
SUMMARY:REHASPORT ORTHOPÄDIE  Röhrnbach
DESCRIPTION:
URL:https://www.sportsusman.de/kursekalender/rehasport-orthopaedie/2028-02-07/
LOCATION:Sport & Entspannung Susman\, Goldener Steig 26\, Röhrnbach\, 94133\, Deutschland
ORGANIZER;CN="Sport & Entspannung Susman":MAILTO:susman@sportsusman.de
END:VEVENT
BEGIN:VEVENT
DTSTART;TZID=Europe/Paris:20280207T100000
DTEND;TZID=Europe/Paris:20280207T104500
DTSTAMP:20260425T233522
CREATED:20240318T234657Z
LAST-MODIFIED:20240318T234657Z
UID:16400-1833530400-1833533100@www.sportsusman.de
SUMMARY:REHASPORT WASSER  Röhrnbach
DESCRIPTION:
URL:https://www.sportsusman.de/kursekalender/rehasport-wasser-roehrnbach/2028-02-07/
LOCATION:Hallenbad Grund- und Mittelschule Röhrnbach\, Froschau 10\, Röhrnbach\, 94133\, Deutschland
ATTACH;FMTTYPE=image/jpeg:https://www.sportsusman.de/wp-content/uploads/2022/01/rehasport_wasser.jpg
ORGANIZER;CN="Sport & Entspannung Susman":MAILTO:susman@sportsusman.de
END:VEVENT
BEGIN:VEVENT
DTSTART;TZID=Europe/Paris:20280207T160000
DTEND;TZID=Europe/Paris:20280207T164500
DTSTAMP:20260425T233522
CREATED:20240318T220814Z
LAST-MODIFIED:20240318T220814Z
UID:16397-1833552000-1833554700@www.sportsusman.de
SUMMARY:REHASPORT Orthopädie HAUZENBERG
DESCRIPTION:
URL:https://www.sportsusman.de/kursekalender/rehasport-orthopaedie-hauzenberg/2028-02-07/
LOCATION:Dreifachturnhalle Hauzenberg\, Eckmühlstraße 30\, Hauzenberg\, Bayern\, 94051\, Deutschland
ORGANIZER;CN="Sport & Entspannung Susman":MAILTO:susman@sportsusman.de
END:VEVENT
BEGIN:VEVENT
DTSTART;TZID=Europe/Paris:20280207T170000
DTEND;TZID=Europe/Paris:20280207T174500
DTSTAMP:20260425T233522
CREATED:20240318T184809Z
LAST-MODIFIED:20240318T184809Z
UID:16395-1833555600-1833558300@www.sportsusman.de
SUMMARY:REHASPORT ORTHOPÄDIE  Röhrnbach
DESCRIPTION:
URL:https://www.sportsusman.de/kursekalender/rehasport-orthopaedie/2028-02-07/
LOCATION:Sport & Entspannung Susman\, Goldener Steig 26\, Röhrnbach\, 94133\, Deutschland
ORGANIZER;CN="Sport & Entspannung Susman":MAILTO:susman@sportsusman.de
END:VEVENT
END:VCALENDAR