BEGIN:VCALENDAR
VERSION:2.0
PRODID:-//Sport&amp;Entspannung Susman - ECPv6.3.4//NONSGML v1.0//EN
CALSCALE:GREGORIAN
METHOD:PUBLISH
X-WR-CALNAME:Sport&amp;Entspannung Susman
X-ORIGINAL-URL:https://www.sportsusman.de
X-WR-CALDESC:Veranstaltungen für Sport&amp;Entspannung Susman
REFRESH-INTERVAL;VALUE=DURATION:PT1H
X-Robots-Tag:noindex
X-PUBLISHED-TTL:PT1H
BEGIN:VTIMEZONE
TZID:Europe/Paris
BEGIN:DAYLIGHT
TZOFFSETFROM:+0100
TZOFFSETTO:+0200
TZNAME:CEST
DTSTART:20260329T010000
END:DAYLIGHT
BEGIN:STANDARD
TZOFFSETFROM:+0200
TZOFFSETTO:+0100
TZNAME:CET
DTSTART:20261025T010000
END:STANDARD
END:VTIMEZONE
BEGIN:VEVENT
DTSTART;TZID=Europe/Paris:20260223T190000
DTEND;TZID=Europe/Paris:20260223T200000
DTSTAMP:20260421T031116
CREATED:20260223T152539Z
LAST-MODIFIED:20260223T152539Z
UID:16422-1771873200-1771876800@www.sportsusman.de
SUMMARY:ZUMBA
DESCRIPTION:💃 ZUMBA® mit NINA – Tanz dich fit und glücklich! 🕺\nDu liebst Musik\, Bewegung und gute Laune?\nDann ist Zumba® mit NINA genau das Richtige für dich! \nZu mitreißenden Rhythmen aus Latin\, Pop und internationalen Beats bringt dich NINA ordentlich ins Schwitzen – ganz ohne Leistungsdruck\, aber mit jeder Menge Spaß. Egal ob Anfängerin oder Fortgeschrittener: Hier zählt die Freude an der Bewegung! \n✨ Was dich erwartet:\nEffektives Ganzkörper-Workout\nFettverbrennung & Ausdauertraining\nKoordination & Beweglichkeit\nStressabbau garantiert\nMotivation\, Energie & gute Stimmung \nNINA begeistert mit ihrer positiven Art\, klaren Anleitungen und einer ansteckenden Energie\, die dich durch jede Choreografie trägt. Du wirst lachen\, tanzen und am Ende stolz auf dich sein! \n👟 Einfach kommen\, mitmachen\, wohlfühlen! \nKeine Vorkenntnisse nötig – nur bequeme Kleidung\, Hallenschuhe und Lust auf Bewegung. \n📅 Jetzt Platz sichern und durchstarten! \nZumba® mit NINA – weil Fitness auch Spaß machen darf! 💥
URL:https://www.sportsusman.de/kursekalender/zumba/2026-02-23/
LOCATION:Sport & Entspannung Susman\, Goldener Steig 26\, Röhrnbach\, 94133\, Deutschland
END:VEVENT
END:VCALENDAR